BEGIN:VCALENDAR
PRODID:-//PUBBLE//an agenda//NL
VERSION:2.0
METHOD:PUBLISH
BEGIN:VEVENT
DTSTART:20260503T060000Z
DTEND:20260502T210000Z
DTSTAMP:20260424T060946Z
UID:3d6be551-9391-43a7-98ff-cc19973ce0d4
CREATED:20260424T060946Z
URL:https://www.achterhoekfoto.nl/agenda/item/546404
NAME:dhr. Gerrit Wesselink AchterhoekFoto.nl
X-WR-CALNAME:dhr. Gerrit Wesselink AchterhoekFoto.nl
X-ALT-DESC;FMTTYPE=text/html:<a href='https://www.achterhoekfoto.nl/agenda/item//546404'>https://achterhoekfoto.nl/agenda/item//546404</a> || <p>tot-Uw-dienst viering. Deze dienst is ook te volgens via de link op www.lambertikerk.nl</p>
DESCRIPTION:<a href='https://www.achterhoekfoto.nl/agenda/item//546404'>https://www.achterhoekfoto.nl/agenda/item//546404</a> || tot-Uw-dienst viering. Deze dienst is ook te volgens via de link op www.lambertikerk.nl
LAST-MODIFIED:20260424T060946Z
LOCATION:Lambertikerk Markt 2 7021AA Zelhem
SEQUENCE:0
STATUS:CONFIRMED
SUMMARY:dhr. Gerrit Wesselink
TRANSP:OPAQUE
END:VEVENT
END:VCALENDAR
