BEGIN:VCALENDAR
PRODID:-//PUBBLE//an agenda//NL
VERSION:2.0
METHOD:PUBLISH
BEGIN:VEVENT
DTSTART:20260724T080000Z
DTEND:20260723T210000Z
DTSTAMP:20260424T072638Z
UID:da329de0-f0b7-4bde-84fa-85db9cbaf639
CREATED:20260424T072638Z
URL:https://www.achterhoekfoto.nl/agenda/item/546401
NAME:Liturg AchterhoekFoto.nl
X-WR-CALNAME:Liturg AchterhoekFoto.nl
X-ALT-DESC;FMTTYPE=text/html:<a href='https://www.achterhoekfoto.nl/agenda/item//546401'>https://achterhoekfoto.nl/agenda/item//546401</a> || <p>We bidden iedere vrijdagmiddag van 12.00-12.10 uur het Coventry-gebed voor vrede en verzoening in de wereld. Iedereen is hierbij van harte welkom.</p>
DESCRIPTION:<a href='https://www.achterhoekfoto.nl/agenda/item//546401'>https://www.achterhoekfoto.nl/agenda/item//546401</a> || We bidden iedere vrijdagmiddag van 12.00-12.10 uur het Coventry-gebed voor vrede en verzoening in de wereld. Iedereen is hierbij van harte welkom.
LAST-MODIFIED:20260424T072638Z
LOCATION:Lambertikerk Markt 2 7021AA Zelhem
SEQUENCE:0
STATUS:CONFIRMED
SUMMARY:Liturg
TRANSP:OPAQUE
END:VEVENT
END:VCALENDAR
