BEGIN:VCALENDAR
PRODID:-//PUBBLE//an agenda//NL
VERSION:2.0
METHOD:PUBLISH
BEGIN:VEVENT
DTSTART:20260605T080000Z
DTEND:20260604T210000Z
DTSTAMP:20260424T072652Z
UID:fa94a961-40c6-4747-bccc-bd938f7b85f7
CREATED:20260424T072652Z
URL:https://www.achterhoekfoto.nl/agenda/item/546392
NAME:Liturg AchterhoekFoto.nl
X-WR-CALNAME:Liturg AchterhoekFoto.nl
X-ALT-DESC;FMTTYPE=text/html:<a href='https://www.achterhoekfoto.nl/agenda/item//546392'>https://achterhoekfoto.nl/agenda/item//546392</a> || <p>We bidden iedere vrijdagmiddag van 12.00-12.10 uur het Coventry-gebed voor vrede en verzoening in de wereld. Iedereen is hierbij van harte welkom.</p>
DESCRIPTION:<a href='https://www.achterhoekfoto.nl/agenda/item//546392'>https://www.achterhoekfoto.nl/agenda/item//546392</a> || We bidden iedere vrijdagmiddag van 12.00-12.10 uur het Coventry-gebed voor vrede en verzoening in de wereld. Iedereen is hierbij van harte welkom.
LAST-MODIFIED:20260424T072652Z
LOCATION:Lambertikerk Markt 2 7021AA Zelhem
SEQUENCE:0
STATUS:CONFIRMED
SUMMARY:Liturg
TRANSP:OPAQUE
END:VEVENT
END:VCALENDAR
