BEGIN:VCALENDAR
PRODID:-//PUBBLE//an agenda//NL
VERSION:2.0
METHOD:PUBLISH
BEGIN:VEVENT
DTSTART:20260529T080000Z
DTEND:20260528T210000Z
DTSTAMP:20260424T060850Z
UID:983592a9-bc1c-44b4-b02e-1bc0c6ed2f60
CREATED:20260424T060850Z
URL:https://www.achterhoekfoto.nl/agenda/item/546391
NAME:Liturg AchterhoekFoto.nl
X-WR-CALNAME:Liturg AchterhoekFoto.nl
X-ALT-DESC;FMTTYPE=text/html:<a href='https://www.achterhoekfoto.nl/agenda/item//546391'>https://achterhoekfoto.nl/agenda/item//546391</a> || <p>We bidden iedere vrijdagmiddag van 12.00-12.10 uur het Coventry-gebed voor vrede en verzoening in de wereld. Iedereen is hierbij van harte welkom.</p>
DESCRIPTION:<a href='https://www.achterhoekfoto.nl/agenda/item//546391'>https://www.achterhoekfoto.nl/agenda/item//546391</a> || We bidden iedere vrijdagmiddag van 12.00-12.10 uur het Coventry-gebed voor vrede en verzoening in de wereld. Iedereen is hierbij van harte welkom.
LAST-MODIFIED:20260424T060850Z
LOCATION:Lambertikerk Markt 2 7021AA Zelhem
SEQUENCE:0
STATUS:CONFIRMED
SUMMARY:Liturg
TRANSP:OPAQUE
END:VEVENT
END:VCALENDAR
