BEGIN:VCALENDAR
PRODID:-//PUBBLE//an agenda//NL
VERSION:2.0
METHOD:PUBLISH
BEGIN:VEVENT
DTSTART:20260522T080000Z
DTEND:20260521T210000Z
DTSTAMP:20260424T061705Z
UID:25c67ab9-3d15-4dcd-89f8-5ede13d6412e
CREATED:20260424T061705Z
URL:https://www.achterhoekfoto.nl/agenda/item/546390
NAME:Liturg AchterhoekFoto.nl
X-WR-CALNAME:Liturg AchterhoekFoto.nl
X-ALT-DESC;FMTTYPE=text/html:<a href='https://www.achterhoekfoto.nl/agenda/item//546390'>https://achterhoekfoto.nl/agenda/item//546390</a> || <p>We bidden iedere vrijdagmiddag van 12.00-12.10 uur het Coventry-gebed voor vrede en verzoening in de wereld. Iedereen is hierbij van harte welkom.</p>
DESCRIPTION:<a href='https://www.achterhoekfoto.nl/agenda/item//546390'>https://www.achterhoekfoto.nl/agenda/item//546390</a> || We bidden iedere vrijdagmiddag van 12.00-12.10 uur het Coventry-gebed voor vrede en verzoening in de wereld. Iedereen is hierbij van harte welkom.
LAST-MODIFIED:20260424T061705Z
LOCATION:Lambertikerk Markt 2 7021AA Zelhem
SEQUENCE:0
STATUS:CONFIRMED
SUMMARY:Liturg
TRANSP:OPAQUE
END:VEVENT
END:VCALENDAR
