BEGIN:VCALENDAR
PRODID:-//PUBBLE//an agenda//NL
VERSION:2.0
METHOD:PUBLISH
BEGIN:VEVENT
DTSTART:20260531T060000Z
DTEND:20260530T210000Z
DTSTAMP:20260424T125730Z
UID:66b19de0-5ad7-4f98-8513-2989c1939fa1
CREATED:20260424T125730Z
URL:https://www.achterhoekfoto.nl/agenda/item/546383
NAME:ds. Irma Pijpers Hoogendoorn AchterhoekFoto.nl
X-WR-CALNAME:ds. Irma Pijpers Hoogendoorn AchterhoekFoto.nl
X-ALT-DESC;FMTTYPE=text/html:<a href='https://www.achterhoekfoto.nl/agenda/item//546383'>https://achterhoekfoto.nl/agenda/item//546383</a> || <p>U bent van harte welkom.</p><p>De diensten zijn live, online en achteraf te volgen via beeld op ons YouTube kanaal (Protestantse Gemeente Zutphen).</p>
DESCRIPTION:<a href='https://www.achterhoekfoto.nl/agenda/item//546383'>https://www.achterhoekfoto.nl/agenda/item//546383</a> || U bent van harte welkom.De diensten zijn live, online en achteraf te volgen via beeld op ons YouTube kanaal (Protestantse Gemeente Zutphen).
LAST-MODIFIED:20260424T125730Z
LOCATION:Protestantse Gemeente Zutphen (Walburgiskerk) Kerkhof 3 7203EK Zutphen
SEQUENCE:0
STATUS:CONFIRMED
SUMMARY:ds. Irma Pijpers Hoogendoorn
TRANSP:OPAQUE
END:VEVENT
END:VCALENDAR
