BEGIN:VCALENDAR
PRODID:-//PUBBLE//an agenda//NL
VERSION:2.0
METHOD:PUBLISH
BEGIN:VEVENT
DTSTART:20260524T060000Z
DTEND:20260523T210000Z
DTSTAMP:20260424T124942Z
UID:9e315c5b-3233-464b-a5ce-7cf259ae15c2
CREATED:20260424T124942Z
URL:https://www.achterhoekfoto.nl/agenda/item/546382
NAME:ds. Irma Pijpers Hoogendoorn AchterhoekFoto.nl
X-WR-CALNAME:ds. Irma Pijpers Hoogendoorn AchterhoekFoto.nl
X-ALT-DESC;FMTTYPE=text/html:<a href='https://www.achterhoekfoto.nl/agenda/item//546382'>https://achterhoekfoto.nl/agenda/item//546382</a> || <p>Pinksteren: U bent van harte welkom.</p><p>De diensten zijn live, online en achteraf te volgen via beeld op ons YouTube kanaal (Protestantse Gemeente Zutphen).</p>
DESCRIPTION:<a href='https://www.achterhoekfoto.nl/agenda/item//546382'>https://www.achterhoekfoto.nl/agenda/item//546382</a> || Pinksteren: U bent van harte welkom.De diensten zijn live, online en achteraf te volgen via beeld op ons YouTube kanaal (Protestantse Gemeente Zutphen).
LAST-MODIFIED:20260424T124942Z
LOCATION:Protestantse Gemeente Zutphen (Walburgiskerk) Kerkhof 3 7203EK Zutphen
SEQUENCE:0
STATUS:CONFIRMED
SUMMARY:ds. Irma Pijpers Hoogendoorn
TRANSP:OPAQUE
END:VEVENT
END:VCALENDAR
