BEGIN:VCALENDAR
PRODID:-//PUBBLE//an agenda//NL
VERSION:2.0
METHOD:PUBLISH
BEGIN:VEVENT
DTSTART:20260517T053900Z
DTEND:20260516T210000Z
DTSTAMP:20260424T113057Z
UID:4bb83b2e-778d-4310-9a7a-61ea3eb5be96
CREATED:20260424T113057Z
URL:https://www.achterhoekfoto.nl/agenda/item/546381
NAME:dhr, Jan Willem Hengeveld AchterhoekFoto.nl
X-WR-CALNAME:dhr, Jan Willem Hengeveld AchterhoekFoto.nl
X-ALT-DESC;FMTTYPE=text/html:<a href='https://www.achterhoekfoto.nl/agenda/item//546381'>https://achterhoekfoto.nl/agenda/item//546381</a> || <p>U bent van harte welkom.</p><p>De diensten zijn live, online en achteraf te volgen via beeld op ons YouTube kanaal (Protestantse Gemeente Zutphen).</p>
DESCRIPTION:<a href='https://www.achterhoekfoto.nl/agenda/item//546381'>https://www.achterhoekfoto.nl/agenda/item//546381</a> || U bent van harte welkom.De diensten zijn live, online en achteraf te volgen via beeld op ons YouTube kanaal (Protestantse Gemeente Zutphen).
LAST-MODIFIED:20260424T113057Z
LOCATION:Protestantse Gemeente Zutphen (Walburgiskerk) Kerkhof 3 7203EK Zutphen
SEQUENCE:0
STATUS:CONFIRMED
SUMMARY:dhr, Jan Willem Hengeveld
TRANSP:OPAQUE
END:VEVENT
END:VCALENDAR
