BEGIN:VCALENDAR
PRODID:-//PUBBLE//an agenda//NL
VERSION:2.0
METHOD:PUBLISH
BEGIN:VEVENT
DTSTART:20260514T060000Z
DTEND:20260513T210000Z
DTSTAMP:20260424T124932Z
UID:308cd7d4-ffe1-4398-8dbb-f284c41c76f6
CREATED:20260424T124932Z
URL:https://www.achterhoekfoto.nl/agenda/item/546380
NAME:ds. René Silvis AchterhoekFoto.nl
X-WR-CALNAME:ds. René Silvis AchterhoekFoto.nl
X-ALT-DESC;FMTTYPE=text/html:<a href='https://www.achterhoekfoto.nl/agenda/item//546380'>https://achterhoekfoto.nl/agenda/item//546380</a> || <p>Hemelvaart. U bent van harte welkom.</p><p>De diensten zijn live, online en achteraf te volgen via beeld op ons YouTube kanaal (Protestantse Gemeente Zutphen).</p>
DESCRIPTION:<a href='https://www.achterhoekfoto.nl/agenda/item//546380'>https://www.achterhoekfoto.nl/agenda/item//546380</a> || Hemelvaart. U bent van harte welkom.De diensten zijn live, online en achteraf te volgen via beeld op ons YouTube kanaal (Protestantse Gemeente Zutphen).
LAST-MODIFIED:20260424T124932Z
LOCATION:Protestantse Gemeente Zutphen (Walburgiskerk) Kerkhof 3 7203EK Zutphen
SEQUENCE:0
STATUS:CONFIRMED
SUMMARY:ds. René Silvis
TRANSP:OPAQUE
END:VEVENT
END:VCALENDAR
