BEGIN:VCALENDAR
PRODID:-//PUBBLE//an agenda//NL
VERSION:2.0
METHOD:PUBLISH
BEGIN:VEVENT
DTSTART:20260510T053600Z
DTEND:20260509T210000Z
DTSTAMP:20260424T113103Z
UID:676f4a8a-a97c-4bde-9541-82465ce47467
CREATED:20260424T113103Z
URL:https://www.achterhoekfoto.nl/agenda/item/546379
NAME:ds. Irma Pijpers Hoogendoorn AchterhoekFoto.nl
X-WR-CALNAME:ds. Irma Pijpers Hoogendoorn AchterhoekFoto.nl
X-ALT-DESC;FMTTYPE=text/html:<a href='https://www.achterhoekfoto.nl/agenda/item//546379'>https://achterhoekfoto.nl/agenda/item//546379</a> || <p>U bent van harte welkom.</p><p>De diensten zijn live, online en achteraf te volgen via beeld op ons YouTube kanaal (Protestantse Gemeente Zutphen).</p>
DESCRIPTION:<a href='https://www.achterhoekfoto.nl/agenda/item//546379'>https://www.achterhoekfoto.nl/agenda/item//546379</a> || U bent van harte welkom.De diensten zijn live, online en achteraf te volgen via beeld op ons YouTube kanaal (Protestantse Gemeente Zutphen).
LAST-MODIFIED:20260424T113103Z
LOCATION:Protestantse Gemeente Zutphen (Walburgiskerk) Kerkhof 3 7203EK Zutphen
SEQUENCE:0
STATUS:CONFIRMED
SUMMARY:ds. Irma Pijpers Hoogendoorn
TRANSP:OPAQUE
END:VEVENT
END:VCALENDAR
