BEGIN:VCALENDAR
PRODID:-//PUBBLE//an agenda//NL
VERSION:2.0
METHOD:PUBLISH
BEGIN:VEVENT
DTSTART:20260503T060000Z
DTEND:20260502T210000Z
DTSTAMP:20260424T124713Z
UID:cd866f95-784c-4224-b3b8-caebad49b558
CREATED:20260424T124713Z
URL:https://www.achterhoekfoto.nl/agenda/item/546378
NAME:ds. henk van Es AchterhoekFoto.nl
X-WR-CALNAME:ds. henk van Es AchterhoekFoto.nl
X-ALT-DESC;FMTTYPE=text/html:<a href='https://www.achterhoekfoto.nl/agenda/item//546378'>https://achterhoekfoto.nl/agenda/item//546378</a> || <p>U bent van harte welkom.</p><p>De diensten zijn live, online en achteraf te volgen via beeld op ons YouTube kanaal (Protestantse Gemeente Zutphen).</p>
DESCRIPTION:<a href='https://www.achterhoekfoto.nl/agenda/item//546378'>https://www.achterhoekfoto.nl/agenda/item//546378</a> || U bent van harte welkom.De diensten zijn live, online en achteraf te volgen via beeld op ons YouTube kanaal (Protestantse Gemeente Zutphen).
LAST-MODIFIED:20260424T124713Z
LOCATION:Protestantse Gemeente Zutphen (Walburgiskerk) Kerkhof 3 7203EK Zutphen
SEQUENCE:0
STATUS:CONFIRMED
SUMMARY:ds. henk van Es
TRANSP:OPAQUE
END:VEVENT
END:VCALENDAR
