BEGIN:VCALENDAR
PRODID:-//PUBBLE//an agenda//NL
VERSION:2.0
METHOD:PUBLISH
BEGIN:VEVENT
DTSTART:20260426T060000Z
DTEND:20260425T210000Z
DTSTAMP:20260424T040035Z
UID:7319672f-8615-4339-a89e-f4479347c27d
CREATED:20260424T040035Z
URL:https://www.achterhoekfoto.nl/agenda/item/546144
NAME:Ds. Bert Bomer uit Doesburg AchterhoekFoto.nl
X-WR-CALNAME:Ds. Bert Bomer uit Doesburg AchterhoekFoto.nl
X-ALT-DESC;FMTTYPE=text/html:<a href='https://www.achterhoekfoto.nl/agenda/item//546144'>https://achterhoekfoto.nl/agenda/item//546144</a> || <p>U bent van harte welkom in deze dienst! Collecten zijn voor Missionair werk en Eredienst en Pastoraat. Meevieren kan via www.pgvorden.nl optie ‘Thuis meevieren’ bij ‘Diensten’. U kunt de dienst ook volgen op de app ‘Kerkdienst Gemist’ op uw tablet of smartphone. Na afloop bent u welkom bij de koffie.</p>
DESCRIPTION:<a href='https://www.achterhoekfoto.nl/agenda/item//546144'>https://www.achterhoekfoto.nl/agenda/item//546144</a> || U bent van harte welkom in deze dienst! Collecten zijn voor Missionair werk en Eredienst en Pastoraat. Meevieren kan via www.pgvorden.nl optie ‘Thuis meevieren’ bij ‘Diensten’. U kunt de dienst ook volgen op de app ‘Kerkdienst Gemist’ op uw tablet of smartphone. Na afloop bent u welkom bij de koffie.
LAST-MODIFIED:20260424T040035Z
LOCATION:Dorpskerk Vorden Kerkstraat 4 7251BC Vorden
SEQUENCE:0
STATUS:CONFIRMED
SUMMARY:Ds. Bert Bomer uit Doesburg
TRANSP:OPAQUE
END:VEVENT
END:VCALENDAR
