BEGIN:VCALENDAR
PRODID:-//PUBBLE//an agenda//NL
VERSION:2.0
METHOD:PUBLISH
BEGIN:VEVENT
DTSTART:20260524T063000Z
DTEND:20260523T210000Z
DTSTAMP:20260425T141340Z
UID:cac52d15-7d49-47b6-a6c1-abbb18d97b4c
CREATED:20260425T141340Z
URL:https://www.achterhoekfoto.nl/agenda/item/545994
NAME:Mw. H. Luesink AchterhoekFoto.nl
X-WR-CALNAME:Mw. H. Luesink AchterhoekFoto.nl
X-ALT-DESC;FMTTYPE=text/html:<a href='https://www.achterhoekfoto.nl/agenda/item//545994'>https://achterhoekfoto.nl/agenda/item//545994</a> || <p>Pinksteren.</p><p>Na dienst is er koffie en thee en de gelegenheid om elkaar te ontmoeten.</p>
DESCRIPTION:<a href='https://www.achterhoekfoto.nl/agenda/item//545994'>https://www.achterhoekfoto.nl/agenda/item//545994</a> || Pinksteren.Na dienst is er koffie en thee en de gelegenheid om elkaar te ontmoeten.
LAST-MODIFIED:20260425T141340Z
LOCATION:Zorgcentrum de Bleijke Beukenlaan 1 7255DK Hengelo
SEQUENCE:0
STATUS:CONFIRMED
SUMMARY:Mw. H. Luesink
TRANSP:OPAQUE
END:VEVENT
END:VCALENDAR
