BEGIN:VCALENDAR
PRODID:-//PUBBLE//an agenda//NL
VERSION:2.0
METHOD:PUBLISH
BEGIN:VEVENT
DTSTART:20260503T153000Z
DTEND:20260502T210000Z
DTSTAMP:20260424T194138Z
UID:32565b17-69af-49e7-8e6e-0896a0cf8500
CREATED:20260424T194138Z
URL:https://www.achterhoekfoto.nl/agenda/item/545989
NAME:ds. M. Leistra AchterhoekFoto.nl
X-WR-CALNAME:ds. M. Leistra AchterhoekFoto.nl
X-ALT-DESC;FMTTYPE=text/html:<a href='https://www.achterhoekfoto.nl/agenda/item//545989'>https://achterhoekfoto.nl/agenda/item//545989</a> || <p>Na de dienst is re koffie en thee en de gelegenheid om elkaar te ontmoeten.</p>
DESCRIPTION:<a href='https://www.achterhoekfoto.nl/agenda/item//545989'>https://www.achterhoekfoto.nl/agenda/item//545989</a> || Na de dienst is re koffie en thee en de gelegenheid om elkaar te ontmoeten.
LAST-MODIFIED:20260424T194138Z
LOCATION:Zorgcentrum de Bleijke Beukenlaan 1 7255DK Hengelo
SEQUENCE:0
STATUS:CONFIRMED
SUMMARY:ds. M. Leistra
TRANSP:OPAQUE
END:VEVENT
END:VCALENDAR
