BEGIN:VCALENDAR
PRODID:-//PUBBLE//an agenda//NL
VERSION:2.0
METHOD:PUBLISH
BEGIN:VEVENT
DTSTART:20260524T123000Z
DTEND:20260523T210000Z
DTSTAMP:20260424T182021Z
UID:afd98b4f-9dbc-4b7c-9cc4-13cfbd2e13a9
CREATED:20260424T182021Z
URL:https://www.achterhoekfoto.nl/agenda/item/545565
NAME:ds. B. Jongeneel, Lunteren AchterhoekFoto.nl
X-WR-CALNAME:ds. B. Jongeneel, Lunteren AchterhoekFoto.nl
X-ALT-DESC;FMTTYPE=text/html:<a href='https://www.achterhoekfoto.nl/agenda/item//545565'>https://achterhoekfoto.nl/agenda/item//545565</a> || <p>Eerste Pinksterdag. Onze diensten zijn online live te volgen of achteraf terug te kijken: hervormdzutphen.nl/live-uitzendingen-kerkdienst</p>
DESCRIPTION:<a href='https://www.achterhoekfoto.nl/agenda/item//545565'>https://www.achterhoekfoto.nl/agenda/item//545565</a> || Eerste Pinksterdag. Onze diensten zijn online live te volgen of achteraf terug te kijken: hervormdzutphen.nl/live-uitzendingen-kerkdienst
LAST-MODIFIED:20260424T182021Z
LOCATION:Hervormde Gemeente Irene  Schoolstraat 51 7205BN Zutphen
SEQUENCE:0
STATUS:CONFIRMED
SUMMARY:ds. B. Jongeneel, Lunteren
TRANSP:OPAQUE
END:VEVENT
END:VCALENDAR
