BEGIN:VCALENDAR
PRODID:-//PUBBLE//an agenda//NL
VERSION:2.0
METHOD:PUBLISH
BEGIN:VEVENT
DTSTART:20260517T123000Z
DTEND:20260516T210000Z
DTSTAMP:20260424T170406Z
UID:e56a5931-1a90-48c4-9fdf-57e869d363d4
CREATED:20260424T170406Z
URL:https://www.achterhoekfoto.nl/agenda/item/545564
NAME:ds. C.C. de Vreugd, Nijkerkerveen AchterhoekFoto.nl
X-WR-CALNAME:ds. C.C. de Vreugd, Nijkerkerveen AchterhoekFoto.nl
X-ALT-DESC;FMTTYPE=text/html:<a href='https://www.achterhoekfoto.nl/agenda/item//545564'>https://achterhoekfoto.nl/agenda/item//545564</a> || <p>Onze diensten zijn online live te volgen of achteraf terug te kijken: hervormdzutphen.nl/live-uitzendingen-kerkdienst</p>
DESCRIPTION:<a href='https://www.achterhoekfoto.nl/agenda/item//545564'>https://www.achterhoekfoto.nl/agenda/item//545564</a> || Onze diensten zijn online live te volgen of achteraf terug te kijken: hervormdzutphen.nl/live-uitzendingen-kerkdienst
LAST-MODIFIED:20260424T170406Z
LOCATION:Hervormde Gemeente Irene  Schoolstraat 51 7205BN Zutphen
SEQUENCE:0
STATUS:CONFIRMED
SUMMARY:ds. C.C. de Vreugd, Nijkerkerveen
TRANSP:OPAQUE
END:VEVENT
END:VCALENDAR
