BEGIN:VCALENDAR
PRODID:-//PUBBLE//an agenda//NL
VERSION:2.0
METHOD:PUBLISH
BEGIN:VEVENT
DTSTART:20260510T123000Z
DTEND:20260509T210000Z
DTSTAMP:20260424T182429Z
UID:29287dd4-6bec-4541-8443-5d26a43083f6
CREATED:20260424T182429Z
URL:https://www.achterhoekfoto.nl/agenda/item/545563
NAME:ds. G.C. Klok, Putten AchterhoekFoto.nl
X-WR-CALNAME:ds. G.C. Klok, Putten AchterhoekFoto.nl
X-ALT-DESC;FMTTYPE=text/html:<a href='https://www.achterhoekfoto.nl/agenda/item//545563'>https://achterhoekfoto.nl/agenda/item//545563</a> || <p>Onze diensten zijn online live te volgen of achteraf terug te kijken: hervormdzutphen.nl/live-uitzendingen-kerkdienst</p>
DESCRIPTION:<a href='https://www.achterhoekfoto.nl/agenda/item//545563'>https://www.achterhoekfoto.nl/agenda/item//545563</a> || Onze diensten zijn online live te volgen of achteraf terug te kijken: hervormdzutphen.nl/live-uitzendingen-kerkdienst
LAST-MODIFIED:20260424T182429Z
LOCATION:Hervormde Gemeente Irene  Schoolstraat 51 7205BN Zutphen
SEQUENCE:0
STATUS:CONFIRMED
SUMMARY:ds. G.C. Klok, Putten
TRANSP:OPAQUE
END:VEVENT
END:VCALENDAR
