BEGIN:VCALENDAR
PRODID:-//PUBBLE//an agenda//NL
VERSION:2.0
METHOD:PUBLISH
BEGIN:VEVENT
DTSTART:20260503T123000Z
DTEND:20260502T210000Z
DTSTAMP:20260424T182011Z
UID:a5cdbad5-55aa-4ba8-9263-22616defb167
CREATED:20260424T182011Z
URL:https://www.achterhoekfoto.nl/agenda/item/545562
NAME:ds. A. Vonk Noordegraaf, Putten AchterhoekFoto.nl
X-WR-CALNAME:ds. A. Vonk Noordegraaf, Putten AchterhoekFoto.nl
X-ALT-DESC;FMTTYPE=text/html:<a href='https://www.achterhoekfoto.nl/agenda/item//545562'>https://achterhoekfoto.nl/agenda/item//545562</a> || <p>Onze diensten zijn online live te volgen of achteraf terug te kijken: hervormdzutphen.nl/live-uitzendingen-kerkdienst</p>
DESCRIPTION:<a href='https://www.achterhoekfoto.nl/agenda/item//545562'>https://www.achterhoekfoto.nl/agenda/item//545562</a> || Onze diensten zijn online live te volgen of achteraf terug te kijken: hervormdzutphen.nl/live-uitzendingen-kerkdienst
LAST-MODIFIED:20260424T182011Z
LOCATION:Hervormde Gemeente Irene  Schoolstraat 51 7205BN Zutphen
SEQUENCE:0
STATUS:CONFIRMED
SUMMARY:ds. A. Vonk Noordegraaf, Putten
TRANSP:OPAQUE
END:VEVENT
END:VCALENDAR
