BEGIN:VCALENDAR
PRODID:-//PUBBLE//an agenda//NL
VERSION:2.0
METHOD:PUBLISH
BEGIN:VEVENT
DTSTART:20260518T150000Z
DTEND:20260517T210000Z
DTSTAMP:20260424T182138Z
UID:6d2055eb-e0f0-4e4a-9361-1a7fbf22bbae
CREATED:20260424T182138Z
URL:https://www.achterhoekfoto.nl/agenda/item/545208
NAME:Mariaviering / AchterhoekFoto.nl
X-WR-CALNAME:Mariaviering / AchterhoekFoto.nl
X-ALT-DESC;FMTTYPE=text/html:<a href='https://www.achterhoekfoto.nl/agenda/item//545208'>https://achterhoekfoto.nl/agenda/item//545208</a> || <p>Werkgroep / Zang: Willibrordkoor</p>
DESCRIPTION:<a href='https://www.achterhoekfoto.nl/agenda/item//545208'>https://www.achterhoekfoto.nl/agenda/item//545208</a> || Werkgroep / Zang: Willibrordkoor
LAST-MODIFIED:20260424T182138Z
LOCATION:H. Willibrord Bronkhorsterweg 2F 7221AC Steenderen
SEQUENCE:0
STATUS:CONFIRMED
SUMMARY:Mariaviering /
TRANSP:OPAQUE
END:VEVENT
END:VCALENDAR
