BEGIN:VCALENDAR
PRODID:-//PUBBLE//an agenda//NL
VERSION:2.0
METHOD:PUBLISH
BEGIN:VEVENT
DTSTART:20260503T053000Z
DTEND:20260502T210000Z
DTSTAMP:20260424T194153Z
UID:c5f0fab4-65c8-4ddd-b2b6-e817b970f2e0
CREATED:20260424T194153Z
URL:https://www.achterhoekfoto.nl/agenda/item/545207
NAME:Woord- en communieviering AchterhoekFoto.nl
X-WR-CALNAME:Woord- en communieviering AchterhoekFoto.nl
X-ALT-DESC;FMTTYPE=text/html:<a href='https://www.achterhoekfoto.nl/agenda/item//545207'>https://achterhoekfoto.nl/agenda/item//545207</a> || <p>Voorgangers M. Schotman en J. Lohuis / Zang: 2Gether</p>
DESCRIPTION:<a href='https://www.achterhoekfoto.nl/agenda/item//545207'>https://www.achterhoekfoto.nl/agenda/item//545207</a> || Voorgangers M. Schotman en J. Lohuis / Zang: 2Gether
LAST-MODIFIED:20260424T194153Z
LOCATION:H. Willibrord Bronkhorsterweg 2F 7221AC Steenderen
SEQUENCE:0
STATUS:CONFIRMED
SUMMARY:Woord- en communieviering
TRANSP:OPAQUE
END:VEVENT
END:VCALENDAR
