BEGIN:VCALENDAR
PRODID:-//PUBBLE//an agenda//NL
VERSION:2.0
METHOD:PUBLISH
BEGIN:VEVENT
DTSTART:20260527T053000Z
DTEND:20260526T210000Z
DTSTAMP:20260424T113031Z
UID:5fec1f32-6343-407b-93ce-a8ac1f9d7e29
CREATED:20260424T113031Z
URL:https://www.achterhoekfoto.nl/agenda/item/545196
NAME:Ben Stevens AchterhoekFoto.nl
X-WR-CALNAME:Ben Stevens AchterhoekFoto.nl
X-ALT-DESC;FMTTYPE=text/html:<a href='https://www.achterhoekfoto.nl/agenda/item//545196'>https://achterhoekfoto.nl/agenda/item//545196</a> || <p>Morgengebed / woord- en communieviering&nbsp;</p>
DESCRIPTION:<a href='https://www.achterhoekfoto.nl/agenda/item//545196'>https://www.achterhoekfoto.nl/agenda/item//545196</a> || Morgengebed / woord- en communieviering 
LAST-MODIFIED:20260424T113031Z
LOCATION:RK H. Jacobus Misterstraat 18 7101EW Winterswijk
SEQUENCE:0
STATUS:CONFIRMED
SUMMARY:Ben Stevens
TRANSP:OPAQUE
END:VEVENT
END:VCALENDAR
