BEGIN:VCALENDAR
PRODID:-//PUBBLE//an agenda//NL
VERSION:2.0
METHOD:PUBLISH
BEGIN:VEVENT
DTSTART:20260513T053000Z
DTEND:20260512T210000Z
DTSTAMP:20260424T124819Z
UID:8b7ebfae-8c02-4216-a7ce-8fd287cf1f02
CREATED:20260424T124819Z
URL:https://www.achterhoekfoto.nl/agenda/item/545195
NAME:Pastoor H. de Jong AchterhoekFoto.nl
X-WR-CALNAME:Pastoor H. de Jong AchterhoekFoto.nl
X-ALT-DESC;FMTTYPE=text/html:<a href='https://www.achterhoekfoto.nl/agenda/item//545195'>https://achterhoekfoto.nl/agenda/item//545195</a> || <p>Morgengebed / eucharistieviering&nbsp;</p>
DESCRIPTION:<a href='https://www.achterhoekfoto.nl/agenda/item//545195'>https://www.achterhoekfoto.nl/agenda/item//545195</a> || Morgengebed / eucharistieviering 
LAST-MODIFIED:20260424T124819Z
LOCATION:RK H. Jacobus Misterstraat 18 7101EW Winterswijk
SEQUENCE:0
STATUS:CONFIRMED
SUMMARY:Pastoor H. de Jong
TRANSP:OPAQUE
END:VEVENT
END:VCALENDAR
