BEGIN:VCALENDAR
PRODID:-//PUBBLE//an agenda//NL
VERSION:2.0
METHOD:PUBLISH
BEGIN:VEVENT
DTSTART:20260506T053000Z
DTEND:20260505T210000Z
DTSTAMP:20260424T124255Z
UID:d49dcf37-b009-4d68-a7e8-894f1b207e6c
CREATED:20260424T124255Z
URL:https://www.achterhoekfoto.nl/agenda/item/545194
NAME:Ben Stevens AchterhoekFoto.nl
X-WR-CALNAME:Ben Stevens AchterhoekFoto.nl
X-ALT-DESC;FMTTYPE=text/html:<a href='https://www.achterhoekfoto.nl/agenda/item//545194'>https://achterhoekfoto.nl/agenda/item//545194</a> || <p>Morgengebed / woord- en communieviering&nbsp;</p>
DESCRIPTION:<a href='https://www.achterhoekfoto.nl/agenda/item//545194'>https://www.achterhoekfoto.nl/agenda/item//545194</a> || Morgengebed / woord- en communieviering 
LAST-MODIFIED:20260424T124255Z
LOCATION:RK H. Jacobus Misterstraat 18 7101EW Winterswijk
SEQUENCE:0
STATUS:CONFIRMED
SUMMARY:Ben Stevens
TRANSP:OPAQUE
END:VEVENT
END:VCALENDAR
