BEGIN:VCALENDAR
PRODID:-//PUBBLE//an agenda//NL
VERSION:2.0
METHOD:PUBLISH
BEGIN:VEVENT
DTSTART:20260502T150000Z
DTEND:20260501T210000Z
DTSTAMP:20260424T124121Z
UID:3a9f2c78-2575-4ce2-a98c-386054f5d63c
CREATED:20260424T124121Z
URL:https://www.achterhoekfoto.nl/agenda/item/545192
NAME:Pastor H. Scheve AchterhoekFoto.nl
X-WR-CALNAME:Pastor H. Scheve AchterhoekFoto.nl
X-ALT-DESC;FMTTYPE=text/html:<a href='https://www.achterhoekfoto.nl/agenda/item//545192'>https://achterhoekfoto.nl/agenda/item//545192</a> || <p>Eucharistieviering m.m.v. koor Caisa</p>
DESCRIPTION:<a href='https://www.achterhoekfoto.nl/agenda/item//545192'>https://www.achterhoekfoto.nl/agenda/item//545192</a> || Eucharistieviering m.m.v. koor Caisa
LAST-MODIFIED:20260424T124121Z
LOCATION:RK H. Jacobus Misterstraat 18 7101EW Winterswijk
SEQUENCE:0
STATUS:CONFIRMED
SUMMARY:Pastor H. Scheve
TRANSP:OPAQUE
END:VEVENT
END:VCALENDAR
