BEGIN:VCALENDAR
PRODID:-//PUBBLE//an agenda//NL
VERSION:2.0
METHOD:PUBLISH
BEGIN:VEVENT
DTSTART:20260510T110000Z
DTEND:20260510T130000Z
DTSTAMP:20260424T170437Z
UID:2911c793-306b-4587-915a-65dfc6129327
CREATED:20260424T170437Z
URL:https://www.achterhoekfoto.nl/agenda/item/545026
NAME:Moederdagconcert door celliste Beitske Verheij en pianist Bernd Brackman AchterhoekFoto.nl
X-WR-CALNAME:Moederdagconcert door celliste Beitske Verheij en pianist Bernd Brackman AchterhoekFoto.nl
X-ALT-DESC;FMTTYPE=text/html:<a href='https://www.achterhoekfoto.nl/agenda/item//545026'>https://achterhoekfoto.nl/agenda/item//545026</a> || <p>Traditiegetrouw brengen Beitske Verheij en Bernd Brackman, die sinds jaar en dag een veelgeroemd duo vormen, een indringend en meeslepend cellorecital op Moederdag. Zij beginnen met de Suite in Oude Stijl (1972) van Alfred Schnittke, een wonderbaarlijk klassiek aandoend stuk met hier en daar een onverwacht speldenprikje. Dan volgt de cellosonate in C, opus 119 van Sergei Prokofjef, een magistraal stuk vol welsprekende melodieën en imposante virtuositeit. Na de pauze klinkt de ingetogen maar intense Eerste cellosonate in e, opus 38 van Johannes Brahms, en tot besluit het spetterende Adagio en Allegro opus 70 van Robert Schumann. </p>
DESCRIPTION:<a href='https://www.achterhoekfoto.nl/agenda/item//545026'>https://www.achterhoekfoto.nl/agenda/item//545026</a> || Traditiegetrouw brengen Beitske Verheij en Bernd Brackman, die sinds jaar en dag een veelgeroemd duo vormen, een indringend en meeslepend cellorecital op Moederdag. Zij beginnen met de Suite in Oude Stijl (1972) van Alfred Schnittke, een wonderbaarlijk klassiek aandoend stuk met hier en daar een onverwacht speldenprikje. Dan volgt de cellosonate in C, opus 119 van Sergei Prokofjef, een magistraal stuk vol welsprekende melodieën en imposante virtuositeit. Na de pauze klinkt de ingetogen maar intense Eerste cellosonate in e, opus 38 van Johannes Brahms, en tot besluit het spetterende Adagio en Allegro opus 70 van Robert Schumann. 
LAST-MODIFIED:20260424T170437Z
LOCATION:Remonstrantse Kerk Emmastraat 10 7241EJ Lochem
SEQUENCE:0
STATUS:CONFIRMED
SUMMARY:Moederdagconcert door celliste Beitske Verheij en pianist Bernd Brackman
TRANSP:OPAQUE
END:VEVENT
END:VCALENDAR
