BEGIN:VCALENDAR
PRODID:-//PUBBLE//an agenda//NL
VERSION:2.0
METHOD:PUBLISH
BEGIN:VEVENT
DTSTART:20260531T060000Z
DTEND:20260531T090000Z
DTSTAMP:20260424T083537Z
UID:ba8118ca-e980-479f-8e70-8001dcc1eff3
CREATED:20260424T083537Z
URL:https://www.achterhoekfoto.nl/agenda/item/543769
NAME:Quintusloop AchterhoekFoto.nl
X-WR-CALNAME:Quintusloop AchterhoekFoto.nl
X-ALT-DESC;FMTTYPE=text/html:<a href='https://www.achterhoekfoto.nl/agenda/item//543769'>https://achterhoekfoto.nl/agenda/item//543769</a> || <p>Hardloopevenement over de mooiste verharde en onverharde paden in Hengelo Gld. Kidsrun/G-run (1 km), 5 km, 10 km en 21.1 km.</p>
DESCRIPTION:<a href='https://www.achterhoekfoto.nl/agenda/item//543769'>https://www.achterhoekfoto.nl/agenda/item//543769</a> || Hardloopevenement over de mooiste verharde en onverharde paden in Hengelo Gld. Kidsrun/G-run (1 km), 5 km, 10 km en 21.1 km.
LAST-MODIFIED:20260424T083537Z
LOCATION:Centrum Spalstraat 1 7255aa Hengelo
SEQUENCE:0
STATUS:CONFIRMED
SUMMARY:Quintusloop
TRANSP:OPAQUE
END:VEVENT
END:VCALENDAR
