BEGIN:VCALENDAR
PRODID:-//PUBBLE//an agenda//NL
VERSION:2.0
METHOD:PUBLISH
BEGIN:VEVENT
DTSTART:20260503T123000Z
DTEND:20260503T134500Z
DTSTAMP:20260424T205822Z
UID:7cd3a257-b76a-4777-b880-4706da91601f
CREATED:20260424T205822Z
URL:https://www.achterhoekfoto.nl/agenda/item/543532
NAME:Ds. H. Ymker, Soest AchterhoekFoto.nl
X-WR-CALNAME:Ds. H. Ymker, Soest AchterhoekFoto.nl
X-ALT-DESC;FMTTYPE=text/html:<a href='https://www.achterhoekfoto.nl/agenda/item//543532'>https://achterhoekfoto.nl/agenda/item//543532</a> || <p>uitgezonden op www.cgkaalten.nl</p>
DESCRIPTION:<a href='https://www.achterhoekfoto.nl/agenda/item//543532'>https://www.achterhoekfoto.nl/agenda/item//543532</a> || uitgezonden op www.cgkaalten.nl
LAST-MODIFIED:20260424T205822Z
LOCATION:Christelijke Gereformeerde Kerk Aalten Berkenhovestraat 9 7122zx Aalten
SEQUENCE:0
STATUS:CONFIRMED
SUMMARY:Ds. H. Ymker, Soest
TRANSP:OPAQUE
END:VEVENT
END:VCALENDAR
