BEGIN:VCALENDAR
PRODID:-//PUBBLE//an agenda//NL
VERSION:2.0
METHOD:PUBLISH
BEGIN:VEVENT
DTSTART:20260503T060000Z
DTEND:20260503T070000Z
DTSTAMP:20260424T113046Z
UID:ca824d5c-a4d8-4a7c-944d-b6937d29cc58
CREATED:20260424T113046Z
URL:https://www.achterhoekfoto.nl/agenda/item/535502
NAME:kerkberichten AchterhoekFoto.nl
X-WR-CALNAME:kerkberichten AchterhoekFoto.nl
X-ALT-DESC;FMTTYPE=text/html:<a href='https://www.achterhoekfoto.nl/agenda/item//535502'>https://achterhoekfoto.nl/agenda/item//535502</a> || <p>eredienst</p>
DESCRIPTION:<a href='https://www.achterhoekfoto.nl/agenda/item//535502'>https://www.achterhoekfoto.nl/agenda/item//535502</a> || eredienst
LAST-MODIFIED:20260424T113046Z
LOCATION:NGK de Schakel Meijersweg  2 7161CL neede
SEQUENCE:0
STATUS:CONFIRMED
SUMMARY:kerkberichten
TRANSP:OPAQUE
END:VEVENT
END:VCALENDAR
