BEGIN:VCALENDAR
PRODID:-//PUBBLE//an agenda//NL
VERSION:2.0
METHOD:PUBLISH
BEGIN:VEVENT
DTSTART:20260426T080000Z
DTEND:20260426T090000Z
DTSTAMP:20260424T124213Z
UID:34f32453-d063-4ac2-a7e8-74f6ea76f19d
CREATED:20260424T124213Z
URL:https://www.achterhoekfoto.nl/agenda/item/535501
NAME:kerkberichten AchterhoekFoto.nl
X-WR-CALNAME:kerkberichten AchterhoekFoto.nl
X-ALT-DESC;FMTTYPE=text/html:<a href='https://www.achterhoekfoto.nl/agenda/item//535501'>https://achterhoekfoto.nl/agenda/item//535501</a> || Eredienst voorganger Ds. C. van Dusseldorp
DESCRIPTION:<a href='https://www.achterhoekfoto.nl/agenda/item//535501'>https://www.achterhoekfoto.nl/agenda/item//535501</a> || Eredienst voorganger Ds. C. van Dusseldorp
LAST-MODIFIED:20260424T124213Z
LOCATION:NGK de Schakel Meijersweg  2 7161CL neede
SEQUENCE:0
STATUS:CONFIRMED
SUMMARY:kerkberichten
TRANSP:OPAQUE
END:VEVENT
END:VCALENDAR
