BEGIN:VCALENDAR
PRODID:-//PUBBLE//an agenda//NL
VERSION:2.0
METHOD:PUBLISH
BEGIN:VEVENT
DTSTART:20260503T080000Z
DTEND:20260503T070000Z
DTSTAMP:20260424T124218Z
UID:88292410-cd8f-487b-84d3-39eb067ceb17
CREATED:20260424T124218Z
URL:https://www.achterhoekfoto.nl/agenda/item/534616
NAME:kerkberichten AchterhoekFoto.nl
X-WR-CALNAME:kerkberichten AchterhoekFoto.nl
X-ALT-DESC;FMTTYPE=text/html:<a href='https://www.achterhoekfoto.nl/agenda/item//534616'>https://achterhoekfoto.nl/agenda/item//534616</a> || 
DESCRIPTION:<a href='https://www.achterhoekfoto.nl/agenda/item//534616'>https://www.achterhoekfoto.nl/agenda/item//534616</a> || 
LAST-MODIFIED:20260424T124218Z
LOCATION:NGK de Schakel Meijersweg  2 7161CL neede
SEQUENCE:0
STATUS:CONFIRMED
SUMMARY:kerkberichten
TRANSP:OPAQUE
END:VEVENT
END:VCALENDAR
