BEGIN:VCALENDAR
PRODID:-//PUBBLE//an agenda//NL
VERSION:2.0
METHOD:PUBLISH
BEGIN:VEVENT
DTSTART:20221119T200000Z
DTEND:20221119T215900Z
DTSTAMP:20260425T005809Z
UID:eab426aa-97f2-4c71-8987-ee8b566d493c
CREATED:20260425T005809Z
URL:https://www.achterhoekfoto.nl/agenda/item/438133
NAME:Dag van de Achterhoekse Popmuziek AchterhoekFoto.nl
X-WR-CALNAME:Dag van de Achterhoekse Popmuziek AchterhoekFoto.nl
X-ALT-DESC;FMTTYPE=text/html:<a href='https://www.achterhoekfoto.nl/agenda/item//438133'>https://achterhoekfoto.nl/agenda/item//438133</a> || <p>Dag van de Achterhoekse Popmuziek
Op 19 november treden bij meer dan 30 locaties in de Achterhoek muzikanten en bands op! Deze locaties zijn voordelig met de bus en regionale trein te bezoeken met de speciale dagkaarten van Arriva voor de Dag van de Achterhoekse Popmuziek. Daarbij kun je zelfs genieten van livemuziek in de trein, hoe tof is dat? Bij Taste staan twee enorm leuke bands. Vanaf 22:00 uur spelen The Watchtower uit Lichtenvoorde en Bad Cassette uit Arnhem. Dat wordt een gezellig feestje. De entree is deze avond vrij!
 </p>
DESCRIPTION:<a href='https://www.achterhoekfoto.nl/agenda/item//438133'>https://www.achterhoekfoto.nl/agenda/item//438133</a> || Dag van de Achterhoekse Popmuziek
Op 19 november treden bij meer dan 30 locaties in de Achterhoek muzikanten en bands op! Deze locaties zijn voordelig met de bus en regionale trein te bezoeken met de speciale dagkaarten van Arriva voor de Dag van de Achterhoekse Popmuziek. Daarbij kun je zelfs genieten van livemuziek in de trein, hoe tof is dat? Bij Taste staan twee enorm leuke bands. Vanaf 22:00 uur spelen The Watchtower uit Lichtenvoorde en Bad Cassette uit Arnhem. Dat wordt een gezellig feestje. De entree is deze avond vrij!
 
LAST-MODIFIED:20260425T005809Z
LOCATION:Rockcafé Taste Lievelderstraat 41 7141BK Groenlo
SEQUENCE:0
STATUS:CONFIRMED
SUMMARY:Dag van de Achterhoekse Popmuziek
TRANSP:OPAQUE
END:VEVENT
END:VCALENDAR
