BEGIN:VCALENDAR
PRODID:-//PUBBLE//an agenda//NL
VERSION:2.0
METHOD:PUBLISH
BEGIN:VEVENT
DTSTART:20221119T120000Z
DTEND:20221119T140000Z
DTSTAMP:20260424T182551Z
UID:bb8946fb-4c14-480e-86f0-b9f7847fc923
CREATED:20260424T182551Z
URL:https://www.achterhoekfoto.nl/agenda/item/437926
NAME:Boekpresentatie Herman van Velzen AchterhoekFoto.nl
X-WR-CALNAME:Boekpresentatie Herman van Velzen AchterhoekFoto.nl
X-ALT-DESC;FMTTYPE=text/html:<a href='https://www.achterhoekfoto.nl/agenda/item//437926'>https://achterhoekfoto.nl/agenda/item//437926</a> || ‘n Olderwetse Winter: 30 nieuwe dialectverhalen van Herman van Velzen.



Zaterdag 19 november vanaf 14:00 uur vertelt Theo Roes over het nieuwste boek van zijn vader Herman van Velzen (Frans Roes), de man die naar schatting 2000 Achterhoekse dialectverhalen schreef.
DESCRIPTION:<a href='https://www.achterhoekfoto.nl/agenda/item//437926'>https://www.achterhoekfoto.nl/agenda/item//437926</a> || ‘n Olderwetse Winter: 30 nieuwe dialectverhalen van Herman van Velzen.



Zaterdag 19 november vanaf 14:00 uur vertelt Theo Roes over het nieuwste boek van zijn vader Herman van Velzen (Frans Roes), de man die naar schatting 2000 Achterhoekse dialectverhalen schreef.
LAST-MODIFIED:20260424T182551Z
LOCATION:ReadShop Zelhem Magnoliaweg 1b 7021ZX Zelhem
SEQUENCE:0
STATUS:CONFIRMED
SUMMARY:Boekpresentatie Herman van Velzen
TRANSP:OPAQUE
END:VEVENT
END:VCALENDAR
