BEGIN:VCALENDAR
PRODID:-//PUBBLE//an agenda//NL
VERSION:2.0
METHOD:PUBLISH
BEGIN:VEVENT
DTSTART:20221119T113000Z
DTEND:20221119T133000Z
DTSTAMP:20260424T170406Z
UID:b81ec8e5-0a1a-4d33-a0cf-3cc33aca64fc
CREATED:20260424T170406Z
URL:https://www.achterhoekfoto.nl/agenda/item/437812
NAME:Het grote Sinterklaasfeest door Euphonia AchterhoekFoto.nl
X-WR-CALNAME:Het grote Sinterklaasfeest door Euphonia AchterhoekFoto.nl
X-ALT-DESC;FMTTYPE=text/html:<a href='https://www.achterhoekfoto.nl/agenda/item//437812'>https://achterhoekfoto.nl/agenda/item//437812</a> || Op 19 november organiseert de jubilerende muziekvereniging Euphonia het feest van Sinterklaas! Een feest waarbij kinderen van 3 t/m 10 jaar voor worden uitgenodigd. Sinterklaas heeft ons, als muziekvereniging, gevraagd een mooie voorstelling te geven waarbij hij zelf ook te gast zal zijn! Om alles in goede banen te leiden hebben wij de kinderen in leeftijdsgroepen ingedeeld. Zo zullen er twee shows zijn op de zaterdag 19 november in Dorpshuis de Huve in Eibergen! 







De eerste show zal zijn van 13.30 – 14.15 uur voor kinderen van de basisschool in groep 3,4 en 5. De tweede show zal zijn van 14.45 – 15.30 uur voor kinderen die 3 jaar zijn en de kinderen van de basisschool uit groep 1 en 2. 







Voor de tweede show is het niet de bedoeling dat kinderen alleen naar de show komen. We willen u vragen om te zorgen voor een begeleider voor uw kind. Dat kunt u als ouder/verzorger zelf zijn, maar u kunt ook familie/vrienden vragen meerdere kinderen te begeleiden. 







Via onderstaande link kunt u zich aanmelden voor de show! 















https://docs.google.com/forms/d/e/1FAIpQLSc43WVStOtPGu2QCX8M__e2NZc9GJ4NWLKH9as1rUf6qCgYQg/viewform?usp=pp_url







 







Graag tot ziens op de 19e november! Entree is gratis







Show 1: 13.30-14.15 uur Show 2: 14.45 – 15.30 uur Dorpshuis de Huve in Eibergen 







Vragen? Dan mag u mailen naar: sinterklaasfeestdehuve@gmail.com
DESCRIPTION:<a href='https://www.achterhoekfoto.nl/agenda/item//437812'>https://www.achterhoekfoto.nl/agenda/item//437812</a> || Op 19 november organiseert de jubilerende muziekvereniging Euphonia het feest van Sinterklaas! Een feest waarbij kinderen van 3 t/m 10 jaar voor worden uitgenodigd. Sinterklaas heeft ons, als muziekvereniging, gevraagd een mooie voorstelling te geven waarbij hij zelf ook te gast zal zijn! Om alles in goede banen te leiden hebben wij de kinderen in leeftijdsgroepen ingedeeld. Zo zullen er twee shows zijn op de zaterdag 19 november in Dorpshuis de Huve in Eibergen! 







De eerste show zal zijn van 13.30 – 14.15 uur voor kinderen van de basisschool in groep 3,4 en 5. De tweede show zal zijn van 14.45 – 15.30 uur voor kinderen die 3 jaar zijn en de kinderen van de basisschool uit groep 1 en 2. 







Voor de tweede show is het niet de bedoeling dat kinderen alleen naar de show komen. We willen u vragen om te zorgen voor een begeleider voor uw kind. Dat kunt u als ouder/verzorger zelf zijn, maar u kunt ook familie/vrienden vragen meerdere kinderen te begeleiden. 







Via onderstaande link kunt u zich aanmelden voor de show! 















https://docs.google.com/forms/d/e/1FAIpQLSc43WVStOtPGu2QCX8M__e2NZc9GJ4NWLKH9as1rUf6qCgYQg/viewform?usp=pp_url







 







Graag tot ziens op de 19e november! Entree is gratis







Show 1: 13.30-14.15 uur Show 2: 14.45 – 15.30 uur Dorpshuis de Huve in Eibergen 







Vragen? Dan mag u mailen naar: sinterklaasfeestdehuve@gmail.com
LAST-MODIFIED:20260424T170406Z
LOCATION:De Huve Grotestraat 52 7151BD Eibergen
SEQUENCE:0
STATUS:CONFIRMED
SUMMARY:Het grote Sinterklaasfeest door Euphonia
TRANSP:OPAQUE
END:VEVENT
END:VCALENDAR
