BEGIN:VCALENDAR
PRODID:-//PUBBLE//an agenda//NL
VERSION:2.0
METHOD:PUBLISH
BEGIN:VEVENT
DTSTART:20221119T173000Z
DTEND:20221119T181500Z
DTSTAMP:20260424T221944Z
UID:ce824683-74c2-4a37-b10e-4be3bfef78a5
CREATED:20260424T221944Z
URL:https://www.achterhoekfoto.nl/agenda/item/437763
NAME:Taizéviering in Slangenburgse kerk AchterhoekFoto.nl
X-WR-CALNAME:Taizéviering in Slangenburgse kerk AchterhoekFoto.nl
X-ALT-DESC;FMTTYPE=text/html:<a href='https://www.achterhoekfoto.nl/agenda/item//437763'>https://achterhoekfoto.nl/agenda/item//437763</a> || <p>DOETINCHEM - Zaterdag 19 november wordt van 19.30 uur tot 20.15 uur in de Slangenburgse kerk aan de IJzevoordseweg 35 een viering in de sfeer van Taizé gehouden. Het thema is: ‘Woonplaats van God’. Na afloop is er thee en koffie. Taizédiensten zijn meditatieve vieringen met veel samenzang van eenvoudige korte liederen, die vaak herhaald worden. De muzikale begeleiding wordt verzorgd door Maria Woerde, piano en Henk Schutman, klarinet. Daarnaast is er een stiltemoment, worden er teksten en gebeden gelezen. Het kan iets oproepen van de sfeer in het oecumenisch klooster van Taizé, waar ieder jaar duizenden jongeren uit alle werelddelen samenkomen om te zingen en te bidden. Entree is gratis. Een vrije gift na afloop wordt op prijs gesteld.  www.spoorzoekenslangenburg.nl</p>
DESCRIPTION:<a href='https://www.achterhoekfoto.nl/agenda/item//437763'>https://www.achterhoekfoto.nl/agenda/item//437763</a> || DOETINCHEM - Zaterdag 19 november wordt van 19.30 uur tot 20.15 uur in de Slangenburgse kerk aan de IJzevoordseweg 35 een viering in de sfeer van Taizé gehouden. Het thema is: ‘Woonplaats van God’. Na afloop is er thee en koffie. Taizédiensten zijn meditatieve vieringen met veel samenzang van eenvoudige korte liederen, die vaak herhaald worden. De muzikale begeleiding wordt verzorgd door Maria Woerde, piano en Henk Schutman, klarinet. Daarnaast is er een stiltemoment, worden er teksten en gebeden gelezen. Het kan iets oproepen van de sfeer in het oecumenisch klooster van Taizé, waar ieder jaar duizenden jongeren uit alle werelddelen samenkomen om te zingen en te bidden. Entree is gratis. Een vrije gift na afloop wordt op prijs gesteld.  www.spoorzoekenslangenburg.nl
LAST-MODIFIED:20260424T221944Z
LOCATION:Protestantse Gemeente: Slangenburgse kerk IJzevoordseweg 35 7004HX Doetinchem
SEQUENCE:0
STATUS:CONFIRMED
SUMMARY:Taizéviering in Slangenburgse kerk
TRANSP:OPAQUE
END:VEVENT
END:VCALENDAR
