BEGIN:VCALENDAR
PRODID:-//PUBBLE//an agenda//NL
VERSION:2.0
METHOD:PUBLISH
BEGIN:VEVENT
DTSTART:20221119T143000Z
DTEND:20221119T151500Z
DTSTAMP:20260424T194647Z
UID:724d6eed-78cb-4d2b-b7d6-75d4da6017be
CREATED:20260424T194647Z
URL:https://www.achterhoekfoto.nl/agenda/item/437755
NAME:Andacht in de Catharinakerk AchterhoekFoto.nl
X-WR-CALNAME:Andacht in de Catharinakerk AchterhoekFoto.nl
X-ALT-DESC;FMTTYPE=text/html:<a href='https://www.achterhoekfoto.nl/agenda/item//437755'>https://achterhoekfoto.nl/agenda/item//437755</a> || <p>DOETINCHEM - Op zaterdag 19 november om 16.30 uur is er een Andacht in de Catharinakerk. In de drukte van het bestaan een moment van aandacht en rust, mooie muziek en inspirerende teksten. Teun van de Steeg speelt op het orgel en de vleugel en Marjo Harmsen levert als sopraan haar bijdrage aan de muziek, die passend is bij de tijd van het jaar. Onder andere zijn liederen van Arthur Sullivan en Frederic Cowen te horen. Anthonia Renes spreekt de teksten uit. Het geheel duurt drie kwartier. De kerk is open vanaf 16.15 uur. De toegang is gratis, een gift bij de uitgang wordt zeer gewaardeerd. www.pg-doetinchem.nl</p>
DESCRIPTION:<a href='https://www.achterhoekfoto.nl/agenda/item//437755'>https://www.achterhoekfoto.nl/agenda/item//437755</a> || DOETINCHEM - Op zaterdag 19 november om 16.30 uur is er een Andacht in de Catharinakerk. In de drukte van het bestaan een moment van aandacht en rust, mooie muziek en inspirerende teksten. Teun van de Steeg speelt op het orgel en de vleugel en Marjo Harmsen levert als sopraan haar bijdrage aan de muziek, die passend is bij de tijd van het jaar. Onder andere zijn liederen van Arthur Sullivan en Frederic Cowen te horen. Anthonia Renes spreekt de teksten uit. Het geheel duurt drie kwartier. De kerk is open vanaf 16.15 uur. De toegang is gratis, een gift bij de uitgang wordt zeer gewaardeerd. www.pg-doetinchem.nl
LAST-MODIFIED:20260424T194647Z
LOCATION:Catharinakerk Simonsplein 25 7001BM Doetinchem
SEQUENCE:0
STATUS:CONFIRMED
SUMMARY:Andacht in de Catharinakerk
TRANSP:OPAQUE
END:VEVENT
END:VCALENDAR
