BEGIN:VCALENDAR
PRODID:-//PUBBLE//an agenda//NL
VERSION:2.0
METHOD:PUBLISH
BEGIN:VEVENT
DTSTART:20221119T110000Z
DTEND:20221119T150000Z
DTSTAMP:20260424T154356Z
UID:cd9708d3-8962-44c1-a09c-c97260f44de7
CREATED:20260424T154356Z
URL:https://www.achterhoekfoto.nl/agenda/item/437306
NAME:Slipjacht AchterhoekFoto.nl
X-WR-CALNAME:Slipjacht AchterhoekFoto.nl
X-ALT-DESC;FMTTYPE=text/html:<a href='https://www.achterhoekfoto.nl/agenda/item//437306'>https://achterhoekfoto.nl/agenda/item//437306</a> || Het buitengebied van Borculo en Geesteren is zaterdag 19 november het decor voor de 

jaarlijkse slipjacht. De organisatie is in handen van het Jachtcomité Borculo-Geesteren  en te 

gast zijn de leden van de Koninklijke Nederlandse Jacht Vereniging (KNJV) en leden van de 

Hamelandse ponyclub en - ruiters.  Op het kerkplein in Geesteren worden de deelnemers om

13:00 uur welkom geheten door een afgevaardigde van de gemeente Berkelland.

De inzet van de eerste run zal zijn op de Boerenesdijk. De tweede run start rond 13:45 uur 

op erve “Spiekerhorst” aan de Ne6elhorsterweg. De jacht zal dan vervolgen rich?ng 

Landgoed Beekvliet waar de derde run wordt ingezet. Deze run gaat via de doorwaadplaats 

bij de Slinge rich?ng de Lebbenbruggedijk waar bij familie te Velthuis de derde kill wordt 

gehouden. De laatste run  eindigt bij de Melktap aan de Ne6elhorsterweg en krijgen de 

honden als beloning een koeienpens en wordt de jacht afgesloten met het spelen van 

jachthoornmuziek door de sonneurs van de KNJV
DESCRIPTION:<a href='https://www.achterhoekfoto.nl/agenda/item//437306'>https://www.achterhoekfoto.nl/agenda/item//437306</a> || Het buitengebied van Borculo en Geesteren is zaterdag 19 november het decor voor de 

jaarlijkse slipjacht. De organisatie is in handen van het Jachtcomité Borculo-Geesteren  en te 

gast zijn de leden van de Koninklijke Nederlandse Jacht Vereniging (KNJV) en leden van de 

Hamelandse ponyclub en - ruiters.  Op het kerkplein in Geesteren worden de deelnemers om

13:00 uur welkom geheten door een afgevaardigde van de gemeente Berkelland.

De inzet van de eerste run zal zijn op de Boerenesdijk. De tweede run start rond 13:45 uur 

op erve “Spiekerhorst” aan de Ne6elhorsterweg. De jacht zal dan vervolgen rich?ng 

Landgoed Beekvliet waar de derde run wordt ingezet. Deze run gaat via de doorwaadplaats 

bij de Slinge rich?ng de Lebbenbruggedijk waar bij familie te Velthuis de derde kill wordt 

gehouden. De laatste run  eindigt bij de Melktap aan de Ne6elhorsterweg en krijgen de 

honden als beloning een koeienpens en wordt de jacht afgesloten met het spelen van 

jachthoornmuziek door de sonneurs van de KNJV
LAST-MODIFIED:20260424T154356Z
LOCATION:Kerkplein Kerkplein 1 7274AP Geesteren
SEQUENCE:0
STATUS:CONFIRMED
SUMMARY:Slipjacht
TRANSP:OPAQUE
END:VEVENT
END:VCALENDAR
