BEGIN:VCALENDAR
PRODID:-//PUBBLE//an agenda//NL
VERSION:2.0
METHOD:PUBLISH
BEGIN:VEVENT
DTSTART:20221119T160000Z
DTEND:20221119T180000Z
DTSTAMP:20260424T205930Z
UID:54827d3b-64be-47d3-a31b-aac072aa8055
CREATED:20260424T205930Z
URL:https://www.achterhoekfoto.nl/agenda/item/437195
NAME:ATB-avondtoertocht AchterhoekFoto.nl
X-WR-CALNAME:ATB-avondtoertocht AchterhoekFoto.nl
X-ALT-DESC;FMTTYPE=text/html:<a href='https://www.achterhoekfoto.nl/agenda/item//437195'>https://achterhoekfoto.nl/agenda/item//437195</a> || <p>Er is een afwisselde toertocht uitgezet die zowel door het buitengebied als het dorp Laren gaat. De route zal over verharde en onverharde wegen gaan en tevens door bedrijven, over erven en door stallen en door de kerk.
Deze tocht gaat over veel particuliere gronden, is dus een éénmalige route waar anders niet gefietst mag worden.
Starten tussen 18.00-20.00 uur

Route is ca. 35 km.
De route is eventueel in te korten.

De route is goed aangegeven met reflecterende pijlen.
Helm en goede verlichting verplicht(ook ter plekke verkrijgbaar). Deelname is op eigen risico.
Inschrijfgeld: €7,00 incl. kop soep of consumptie. Gratis voor basisschoolleerlingen.
Deelname op eigen risico.
www.toeristenbelanglaren.nl</p>
DESCRIPTION:<a href='https://www.achterhoekfoto.nl/agenda/item//437195'>https://www.achterhoekfoto.nl/agenda/item//437195</a> || Er is een afwisselde toertocht uitgezet die zowel door het buitengebied als het dorp Laren gaat. De route zal over verharde en onverharde wegen gaan en tevens door bedrijven, over erven en door stallen en door de kerk.
Deze tocht gaat over veel particuliere gronden, is dus een éénmalige route waar anders niet gefietst mag worden.
Starten tussen 18.00-20.00 uur

Route is ca. 35 km.
De route is eventueel in te korten.

De route is goed aangegeven met reflecterende pijlen.
Helm en goede verlichting verplicht(ook ter plekke verkrijgbaar). Deelname is op eigen risico.
Inschrijfgeld: €7,00 incl. kop soep of consumptie. Gratis voor basisschoolleerlingen.
Deelname op eigen risico.
www.toeristenbelanglaren.nl
LAST-MODIFIED:20260424T205930Z
LOCATION:Brummelman Oude Deventerweg 6 7245px Laren
SEQUENCE:0
STATUS:CONFIRMED
SUMMARY:ATB-avondtoertocht
TRANSP:OPAQUE
END:VEVENT
END:VCALENDAR
