BEGIN:VCALENDAR
PRODID:-//PUBBLE//an agenda//NL
VERSION:2.0
METHOD:PUBLISH
BEGIN:VEVENT
DTSTART:20221120T073000Z
DTEND:20221120T084500Z
DTSTAMP:20260425T032927Z
UID:e2db1790-10fe-407b-940f-35b940424759
CREATED:20260425T032927Z
URL:https://www.achterhoekfoto.nl/agenda/item/436491
NAME:Ds. D. van der Wal AchterhoekFoto.nl
X-WR-CALNAME:Ds. D. van der Wal AchterhoekFoto.nl
X-ALT-DESC;FMTTYPE=text/html:<a href='https://www.achterhoekfoto.nl/agenda/item//436491'>https://achterhoekfoto.nl/agenda/item//436491</a> || ochtenddienst; uitgezonden op www.cgkaalten.nl
DESCRIPTION:<a href='https://www.achterhoekfoto.nl/agenda/item//436491'>https://www.achterhoekfoto.nl/agenda/item//436491</a> || ochtenddienst; uitgezonden op www.cgkaalten.nl
LAST-MODIFIED:20260425T032927Z
LOCATION:Christelijk Gereformeerde Kerk Berkenhovestraat 9 7122ZX Aalten
SEQUENCE:0
STATUS:CONFIRMED
SUMMARY:Ds. D. van der Wal
TRANSP:OPAQUE
END:VEVENT
END:VCALENDAR
