BEGIN:VCALENDAR
PRODID:-//PUBBLE//an agenda//NL
VERSION:2.0
METHOD:PUBLISH
BEGIN:VEVENT
DTSTART:20221120T080000Z
DTEND:20221120T080000Z
DTSTAMP:20260425T021142Z
UID:23ea6c6e-6b19-4d65-9fb8-07f25be7938d
CREATED:20260425T021142Z
URL:https://www.achterhoekfoto.nl/agenda/item/431944
NAME:Ds. R.B.W. Wentink AchterhoekFoto.nl
X-WR-CALNAME:Ds. R.B.W. Wentink AchterhoekFoto.nl
X-ALT-DESC;FMTTYPE=text/html:<a href='https://www.achterhoekfoto.nl/agenda/item//431944'>https://achterhoekfoto.nl/agenda/item//431944</a> || <p>Voleindingszondag, m.m.v. de Jacobscantorij.
Na de dienst is er gelegenheid om gezamenlijk een kop koffie of thee te drinken. Voor de kinderen is er limonade. Deze dienst is ook online te bekijken, voor meer informatie ga naar www.pgwinterswijk.nl. </p>
DESCRIPTION:<a href='https://www.achterhoekfoto.nl/agenda/item//431944'>https://www.achterhoekfoto.nl/agenda/item//431944</a> || Voleindingszondag, m.m.v. de Jacobscantorij.
Na de dienst is er gelegenheid om gezamenlijk een kop koffie of thee te drinken. Voor de kinderen is er limonade. Deze dienst is ook online te bekijken, voor meer informatie ga naar www.pgwinterswijk.nl. 
LAST-MODIFIED:20260425T021142Z
LOCATION:Jacobskerk Markt 2a 7101DB Winterswijk
SEQUENCE:0
STATUS:CONFIRMED
SUMMARY:Ds. R.B.W. Wentink
TRANSP:OPAQUE
END:VEVENT
END:VCALENDAR
