BEGIN:VCALENDAR
PRODID:-//PUBBLE//an agenda//NL
VERSION:2.0
METHOD:PUBLISH
BEGIN:VEVENT
DTSTART:20221119T180000Z
DTEND:20221119T200000Z
DTSTAMP:20260424T234255Z
UID:74d83eb4-c0f8-4d09-8037-9eea76ad3789
CREATED:20260424T234255Z
URL:https://www.achterhoekfoto.nl/agenda/item/429727
NAME:Première Giftig door Vers Toneel AchterhoekFoto.nl
X-WR-CALNAME:Première Giftig door Vers Toneel AchterhoekFoto.nl
X-ALT-DESC;FMTTYPE=text/html:<a href='https://www.achterhoekfoto.nl/agenda/item//429727'>https://achterhoekfoto.nl/agenda/item//429727</a> || <p>Na twee jaar stil te hebben gelegen door de coronapandemie brengt Vers Toneel vol trots een nieuw stuk op de planken: ‘Giftig’. 

De beschuldigingen zijn niet van de lucht als de machtige en rijke Nero Vonk doodgaat na één hap van zijn eten in een Italiaans eethuis.  Onder de gasten zijn er toch wel wat aanwezig voor wie de dood van Nero niet slecht uitkomt, en ze worden al gauw verdacht van moord.  De gasten (en het publiek) raken betrokken bij het zoeken naar sporen in een potsierlijk onderzoek dat door chefkok Bas Ilicum wordt geleid.

‘Giftig’ wordt gespeeld op 19 november 20.00 uur en 20 november 14.00 uur. Kaarten zijn vanaf september te koop via www.verstoneel.nl. </p>
DESCRIPTION:<a href='https://www.achterhoekfoto.nl/agenda/item//429727'>https://www.achterhoekfoto.nl/agenda/item//429727</a> || Na twee jaar stil te hebben gelegen door de coronapandemie brengt Vers Toneel vol trots een nieuw stuk op de planken: ‘Giftig’. 

De beschuldigingen zijn niet van de lucht als de machtige en rijke Nero Vonk doodgaat na één hap van zijn eten in een Italiaans eethuis.  Onder de gasten zijn er toch wel wat aanwezig voor wie de dood van Nero niet slecht uitkomt, en ze worden al gauw verdacht van moord.  De gasten (en het publiek) raken betrokken bij het zoeken naar sporen in een potsierlijk onderzoek dat door chefkok Bas Ilicum wordt geleid.

‘Giftig’ wordt gespeeld op 19 november 20.00 uur en 20 november 14.00 uur. Kaarten zijn vanaf september te koop via www.verstoneel.nl. 
LAST-MODIFIED:20260424T234255Z
LOCATION:Barghse Huus theater & film Willem van den Berghstraat 1 7041CW s-Heerenberg
SEQUENCE:0
STATUS:CONFIRMED
SUMMARY:Première Giftig door Vers Toneel
TRANSP:OPAQUE
END:VEVENT
END:VCALENDAR
