BEGIN:VCALENDAR
PRODID:-//PUBBLE//an agenda//NL
VERSION:2.0
METHOD:PUBLISH
BEGIN:VEVENT
DTSTART:20180823T100000Z
DTEND:20180823T150000Z
DTSTAMP:20260425T190144Z
UID:2d85f374-c989-40db-a846-0b4b6d5d6c38
CREATED:20260425T190144Z
URL:https://www.achterhoekfoto.nl/agenda/item/220945
NAME:laatste week expositie Focus op Zutphen bij Kunst op de Hoek AchterhoekFoto.nl
X-WR-CALNAME:laatste week expositie Focus op Zutphen bij Kunst op de Hoek AchterhoekFoto.nl
X-ALT-DESC;FMTTYPE=text/html:<a href='https://www.achterhoekfoto.nl/agenda/item//220945'>https://achterhoekfoto.nl/agenda/item//220945</a> || <p>

	






Boeven ontsnapt uit de Drogenapstoren

Nog t/m zondag 26 augustus is de groepstentoonstelling “Focus op Zutphen” te bezichtigen  bij Kunst op de Hoek in de Frankensteeg in Zutphen. 

Vele belangstellenden hebben deze grote expositie al bezocht. “Focus op Zutphen” is samengesteld uit het werk van 35 kunstenaars uit Zutphen en omgeving die ieder hun eigen kijk op Zutphen geven. Dit heeft geleid tot verrassende resultaten zoals petten, geïnspireerd op de petten van de schippers van de fluisterboten en de Drogenapstoren in keramiek, compleet met boefjes die zijn uitgebroken en de toren beklimmen. Een verwijzing naar de vroegere functie van de stadspoort. 
Ook schilderijen, tekeningen, grafiek, illustraties, collages zijn met al hun diverse technieken te zien. Allen hebben Zutphen in de hoofdrol. Voor de Zutphenaar een feest van herkenning en voor de nieuwsgierige bezoeker geeft het een prachtig beeld van deze mooie stad.

Kunst op de Hoek , Frankensteeg 9 Zutphen is geopend op donderdag, vrijdag en zaterdag en zondag van 12.00 tot 17.00 uur. 
www.kunstopdehoek.nl


</p>
DESCRIPTION:<a href='https://www.achterhoekfoto.nl/agenda/item//220945'>https://www.achterhoekfoto.nl/agenda/item//220945</a> || 

	






Boeven ontsnapt uit de Drogenapstoren

Nog t/m zondag 26 augustus is de groepstentoonstelling “Focus op Zutphen” te bezichtigen  bij Kunst op de Hoek in de Frankensteeg in Zutphen. 

Vele belangstellenden hebben deze grote expositie al bezocht. “Focus op Zutphen” is samengesteld uit het werk van 35 kunstenaars uit Zutphen en omgeving die ieder hun eigen kijk op Zutphen geven. Dit heeft geleid tot verrassende resultaten zoals petten, geïnspireerd op de petten van de schippers van de fluisterboten en de Drogenapstoren in keramiek, compleet met boefjes die zijn uitgebroken en de toren beklimmen. Een verwijzing naar de vroegere functie van de stadspoort. 
Ook schilderijen, tekeningen, grafiek, illustraties, collages zijn met al hun diverse technieken te zien. Allen hebben Zutphen in de hoofdrol. Voor de Zutphenaar een feest van herkenning en voor de nieuwsgierige bezoeker geeft het een prachtig beeld van deze mooie stad.

Kunst op de Hoek , Frankensteeg 9 Zutphen is geopend op donderdag, vrijdag en zaterdag en zondag van 12.00 tot 17.00 uur. 
www.kunstopdehoek.nl



LAST-MODIFIED:20260425T190144Z
LOCATION:Kunst op de Hoek Frankensteeg 9 7201kn Zutphen
SEQUENCE:0
STATUS:CONFIRMED
SUMMARY:laatste week expositie Focus op Zutphen bij Kunst op de Hoek
TRANSP:OPAQUE
END:VEVENT
END:VCALENDAR
