BEGIN:VCALENDAR
PRODID:-//PUBBLE//an agenda//NL
VERSION:2.0
METHOD:PUBLISH
BEGIN:VEVENT
DTSTART:20180818T130000Z
DTEND:20180818T150000Z
DTSTAMP:20260424T050419Z
UID:994731ed-e659-4379-a6e9-62e07c8e575e
CREATED:20260424T050419Z
URL:https://www.achterhoekfoto.nl/agenda/item/219231
NAME:Vocal group Full House AchterhoekFoto.nl
X-WR-CALNAME:Vocal group Full House AchterhoekFoto.nl
X-ALT-DESC;FMTTYPE=text/html:<a href='https://www.achterhoekfoto.nl/agenda/item//219231'>https://achterhoekfoto.nl/agenda/item//219231</a> || <p>Zaterdag 18 augustus verzorgt Vocal groep Full House uit Steenderen en Toldijk een optreden in de Almense kerk om 15.00 uur. Full House, onder leiding van dirigente en pianiste Lucian Venderink, was in de afgelopen jaren al meerdere malen te horen tijdens de zomerconcerten. Ook ditmaal nemen ze enkele gastzangers mee. Het wordt een aantrekkelijk programma, met onder andere licht klassieke muziek met liederen van Edward Elgar en Karl Jenkins en musical-thema’s, zoals de medley van Andrew Lloyd Webber en enkele liederen uit de musical ‘The Lion King’. De toegang is gratis.</p>
DESCRIPTION:<a href='https://www.achterhoekfoto.nl/agenda/item//219231'>https://www.achterhoekfoto.nl/agenda/item//219231</a> || Zaterdag 18 augustus verzorgt Vocal groep Full House uit Steenderen en Toldijk een optreden in de Almense kerk om 15.00 uur. Full House, onder leiding van dirigente en pianiste Lucian Venderink, was in de afgelopen jaren al meerdere malen te horen tijdens de zomerconcerten. Ook ditmaal nemen ze enkele gastzangers mee. Het wordt een aantrekkelijk programma, met onder andere licht klassieke muziek met liederen van Edward Elgar en Karl Jenkins en musical-thema’s, zoals de medley van Andrew Lloyd Webber en enkele liederen uit de musical ‘The Lion King’. De toegang is gratis.
LAST-MODIFIED:20260424T050419Z
LOCATION:Dorpskerk Dorpsstraat 36 7218AH Almen
SEQUENCE:0
STATUS:CONFIRMED
SUMMARY:Vocal group Full House
TRANSP:OPAQUE
END:VEVENT
END:VCALENDAR
