BEGIN:VCALENDAR
PRODID:-//PUBBLE//an agenda//NL
VERSION:2.0
METHOD:PUBLISH
BEGIN:VEVENT
DTSTART:20180818T060000Z
DTEND:20180818T160000Z
DTSTAMP:20260423T211413Z
UID:2b89c10e-17c6-43b7-9de6-6ab48e616d19
CREATED:20260423T211413Z
URL:https://www.achterhoekfoto.nl/agenda/item/219222
NAME:Ronde van de Achterhoek AchterhoekFoto.nl
X-WR-CALNAME:Ronde van de Achterhoek AchterhoekFoto.nl
X-ALT-DESC;FMTTYPE=text/html:<a href='https://www.achterhoekfoto.nl/agenda/item//219222'>https://achterhoekfoto.nl/agenda/item//219222</a> || <p>Deze prachtige toertocht door de Achterhoek is een geweldig ervaring voor elke toerrijder!

De afstanden zijn : 170 en 120 km.
U kunt ongeacht de afstand, starten tussen 8.00 en 9.30 uur
De kosten bedragen €6,00 voor NTFU-leden €5,00
Onderweg zijn er zeven locaties om de bidon gratis bij te vullen en een tussenstop te nemen.
De startlocatie voor Aalten is: TWV De Peddelaars Partycentrum 't Noorden Lichtenvoordsestraatweg 44 Aalten.
De centrale tussen stoplocatie van de toertocht-organisatie is; Westendorp: Kulturhus de Vos Halseweg 2 Westendorp.
Info: www.rondevandeachterhoek.nl




</p>
DESCRIPTION:<a href='https://www.achterhoekfoto.nl/agenda/item//219222'>https://www.achterhoekfoto.nl/agenda/item//219222</a> || Deze prachtige toertocht door de Achterhoek is een geweldig ervaring voor elke toerrijder!

De afstanden zijn : 170 en 120 km.
U kunt ongeacht de afstand, starten tussen 8.00 en 9.30 uur
De kosten bedragen €6,00 voor NTFU-leden €5,00
Onderweg zijn er zeven locaties om de bidon gratis bij te vullen en een tussenstop te nemen.
De startlocatie voor Aalten is: TWV De Peddelaars Partycentrum 't Noorden Lichtenvoordsestraatweg 44 Aalten.
De centrale tussen stoplocatie van de toertocht-organisatie is; Westendorp: Kulturhus de Vos Halseweg 2 Westendorp.
Info: www.rondevandeachterhoek.nl





LAST-MODIFIED:20260423T211413Z
LOCATION:Partycentrum 't Noorden Lichtenvoordsestraatweg 44 7121RA Aalten
SEQUENCE:0
STATUS:CONFIRMED
SUMMARY:Ronde van de Achterhoek
TRANSP:OPAQUE
END:VEVENT
END:VCALENDAR
