BEGIN:VCALENDAR
PRODID:-//PUBBLE//an agenda//NL
VERSION:2.0
METHOD:PUBLISH
BEGIN:VEVENT
DTSTART:20180817T183000Z
DTEND:20180817T215900Z
DTSTAMP:20260423T172107Z
UID:222e7249-420e-45ca-8f75-375c9b35744f
CREATED:20260423T172107Z
URL:https://www.achterhoekfoto.nl/agenda/item/219217
NAME:optreden van HIK op het Velswiekfeest-weekend op vrijdagavond 17 augustus AchterhoekFoto.nl
X-WR-CALNAME:optreden van HIK op het Velswiekfeest-weekend op vrijdagavond 17 augustus AchterhoekFoto.nl
X-ALT-DESC;FMTTYPE=text/html:<a href='https://www.achterhoekfoto.nl/agenda/item//219217'>https://achterhoekfoto.nl/agenda/item//219217</a> || <p>Met de fietsrit op woensdag en aansluitend het opgeven voor het vogelschieten wordt het Velswiekfeest bij d’n Draejer natuurlijk al opgewarmd. Maar de échte aftrap van het Velswiekse feestweekend is op vrijdagavond 17 augustus met de formatie HIK uit Hummelo. Voor D’n Draejer is dan de feesttent opgebouwd met daarin een gezellig podium, tap en dansvloer. Aan de band HIK is dan de schone taak om de voetjes van het feestende publiek weer van de vloer te krijgen. Als het aan HIK ligt gaat dit ook zeker gebeuren! Gezelligheid en interactie met het publiek staan bij hen namelijk hoog in het vaandel. Met onder andere een accordeon wordt gezorgd voor een warm geluid met vrolijke melodielijnen. Vele dialect-talige nummers worden afgewisseld met Nederlands-, Duits en Engels-talige feest- en rockmuziek. Voor jong én oud is een optreden van HIK feest van herkenning! Kom allemaal naar Velswijk om dit feest mee te maken, de toegang voor deze vrijdagavond is gratis! Kijk voor het gehele Velswieksfeestprogramma op www.velswijk.nl</p>
DESCRIPTION:<a href='https://www.achterhoekfoto.nl/agenda/item//219217'>https://www.achterhoekfoto.nl/agenda/item//219217</a> || Met de fietsrit op woensdag en aansluitend het opgeven voor het vogelschieten wordt het Velswiekfeest bij d’n Draejer natuurlijk al opgewarmd. Maar de échte aftrap van het Velswiekse feestweekend is op vrijdagavond 17 augustus met de formatie HIK uit Hummelo. Voor D’n Draejer is dan de feesttent opgebouwd met daarin een gezellig podium, tap en dansvloer. Aan de band HIK is dan de schone taak om de voetjes van het feestende publiek weer van de vloer te krijgen. Als het aan HIK ligt gaat dit ook zeker gebeuren! Gezelligheid en interactie met het publiek staan bij hen namelijk hoog in het vaandel. Met onder andere een accordeon wordt gezorgd voor een warm geluid met vrolijke melodielijnen. Vele dialect-talige nummers worden afgewisseld met Nederlands-, Duits en Engels-talige feest- en rockmuziek. Voor jong én oud is een optreden van HIK feest van herkenning! Kom allemaal naar Velswijk om dit feest mee te maken, de toegang voor deze vrijdagavond is gratis! Kijk voor het gehele Velswieksfeestprogramma op www.velswijk.nl
LAST-MODIFIED:20260423T172107Z
LOCATION:DBO Voor Velswijk Door Velswijk Velswijkweg 50 7021KT Velswijk
SEQUENCE:0
STATUS:CONFIRMED
SUMMARY:optreden van HIK op het Velswiekfeest-weekend op vrijdagavond 17 augustus
TRANSP:OPAQUE
END:VEVENT
END:VCALENDAR
