BEGIN:VCALENDAR
PRODID:-//PUBBLE//an agenda//NL
VERSION:2.0
METHOD:PUBLISH
BEGIN:VEVENT
DTSTART:20180819T130000Z
DTEND:20180819T150000Z
DTSTAMP:20260424T182617Z
UID:61d02fdd-734c-4026-a451-d69e9148e8d8
CREATED:20260424T182617Z
URL:https://www.achterhoekfoto.nl/agenda/item/218865
NAME:De ‘Bakfietsmama’s’ bij Ankomm’n AchterhoekFoto.nl
X-WR-CALNAME:De ‘Bakfietsmama’s’ bij Ankomm’n AchterhoekFoto.nl
X-ALT-DESC;FMTTYPE=text/html:<a href='https://www.achterhoekfoto.nl/agenda/item//218865'>https://achterhoekfoto.nl/agenda/item//218865</a> || <p>Even voorstellen aan deze mama’s: ‘Wij zijn Katiuscia Principato & Mariska Simon.

We hebben een bakfiets en daarmee reizen we het land door. Door liedjes te zingen en onszelf te begeleiden op ukelele, gitaar en mini-piano verdienen wij eerlijk het brood voor onze lieve, lieve kinderen. We maken al jaren lang theater voor kinderen, werken met kinderen & zorgen voor kinderen. Maar nu dus even niet’.
Vrij entree, vrije gift in hoge hoed is welkom!</p>
DESCRIPTION:<a href='https://www.achterhoekfoto.nl/agenda/item//218865'>https://www.achterhoekfoto.nl/agenda/item//218865</a> || Even voorstellen aan deze mama’s: ‘Wij zijn Katiuscia Principato & Mariska Simon.

We hebben een bakfiets en daarmee reizen we het land door. Door liedjes te zingen en onszelf te begeleiden op ukelele, gitaar en mini-piano verdienen wij eerlijk het brood voor onze lieve, lieve kinderen. We maken al jaren lang theater voor kinderen, werken met kinderen & zorgen voor kinderen. Maar nu dus even niet’.
Vrij entree, vrije gift in hoge hoed is welkom!
LAST-MODIFIED:20260424T182617Z
LOCATION:Gastgalerij Ankomm'n Mentinkweg 5 7102GA Winterswijk
SEQUENCE:0
STATUS:CONFIRMED
SUMMARY:De ‘Bakfietsmama’s’ bij Ankomm’n
TRANSP:OPAQUE
END:VEVENT
END:VCALENDAR
