BEGIN:VCALENDAR
PRODID:-//PUBBLE//an agenda//NL
VERSION:2.0
METHOD:PUBLISH
BEGIN:VEVENT
DTSTART:20180818T173000Z
DTEND:20180818T200000Z
DTSTAMP:20260424T062038Z
UID:1b425996-0d74-4d7b-9550-ac4820f8470a
CREATED:20260424T062038Z
URL:https://www.achterhoekfoto.nl/agenda/item/218864
NAME:Troubadour Gery Groot Zwaaftink bij Ankomm'n AchterhoekFoto.nl
X-WR-CALNAME:Troubadour Gery Groot Zwaaftink bij Ankomm'n AchterhoekFoto.nl
X-ALT-DESC;FMTTYPE=text/html:<a href='https://www.achterhoekfoto.nl/agenda/item//218864'>https://achterhoekfoto.nl/agenda/item//218864</a> || <p>Gery Groot Zwaaftink (1955)  treedt al meer dan 25 jaar op met een gevarieerd programma van verhalen en muziek. Zowel volwassenen als kinderen worden meegesleept door zijn wonderlijke vertellingen, zijn liedjes en ballades.

Hij ziet zichzelf als een troubadour die, net als vroeger rondtrok, zijn liedjes zong en zijn verhalen vertelde ter stichting ende vermaek van zijn publiek. Hij heeft als hij een troubadour-voorstelling geeft in zijn rugzak zelfgeschreven liedjes, anekdotes, ballades en een groot aantal korte verhalen. Ter plekke bekijkt  hij wat hij moet gaan doen.  Elke lokatie, elke groep is weer anders. 

Als verhalenverteller is Gery een fysieke speler/verteller. De ene keer is hij de hoofdpersoon en even later de verteller die beschrijft wat er gebeurt. Met een paar eenvoudige rekwisieten en zijn stem ‘schildert’ hij de meest vreemde werelden. Hij laat jong en oud intens genieten van verhalen die ontroerend, humoristisch, boeiend en herkenbaar zijn. Vreemde werelden met draken, koningen en helden maar ook dichterbij huis, een boer die problemen heeft met zijn zoon of een avontuur van een huisarts.
Entree is vrij, vrij gift in de hoge hoed is welkom.</p>
DESCRIPTION:<a href='https://www.achterhoekfoto.nl/agenda/item//218864'>https://www.achterhoekfoto.nl/agenda/item//218864</a> || Gery Groot Zwaaftink (1955)  treedt al meer dan 25 jaar op met een gevarieerd programma van verhalen en muziek. Zowel volwassenen als kinderen worden meegesleept door zijn wonderlijke vertellingen, zijn liedjes en ballades.

Hij ziet zichzelf als een troubadour die, net als vroeger rondtrok, zijn liedjes zong en zijn verhalen vertelde ter stichting ende vermaek van zijn publiek. Hij heeft als hij een troubadour-voorstelling geeft in zijn rugzak zelfgeschreven liedjes, anekdotes, ballades en een groot aantal korte verhalen. Ter plekke bekijkt  hij wat hij moet gaan doen.  Elke lokatie, elke groep is weer anders. 

Als verhalenverteller is Gery een fysieke speler/verteller. De ene keer is hij de hoofdpersoon en even later de verteller die beschrijft wat er gebeurt. Met een paar eenvoudige rekwisieten en zijn stem ‘schildert’ hij de meest vreemde werelden. Hij laat jong en oud intens genieten van verhalen die ontroerend, humoristisch, boeiend en herkenbaar zijn. Vreemde werelden met draken, koningen en helden maar ook dichterbij huis, een boer die problemen heeft met zijn zoon of een avontuur van een huisarts.
Entree is vrij, vrij gift in de hoge hoed is welkom.
LAST-MODIFIED:20260424T062038Z
LOCATION:Gastgalerij Ankomm'n Mentinkweg 5 7102GA Winterswijk
SEQUENCE:0
STATUS:CONFIRMED
SUMMARY:Troubadour Gery Groot Zwaaftink bij Ankomm'n
TRANSP:OPAQUE
END:VEVENT
END:VCALENDAR
