BEGIN:VCALENDAR
PRODID:-//PUBBLE//an agenda//NL
VERSION:2.0
METHOD:PUBLISH
BEGIN:VEVENT
DTSTART:20180817T173000Z
DTEND:20180817T193000Z
DTSTAMP:20260423T143858Z
UID:5f7f9a66-847f-4dfe-97c2-519f4feeac0e
CREATED:20260423T143858Z
URL:https://www.achterhoekfoto.nl/agenda/item/218862
NAME:Italiaanse avond bij Wentersch Bierbrouwerij Italiaanse avond bij Wentersch Bierbrouwerij: BELLA ITALIA! AchterhoekFoto.nl
X-WR-CALNAME:Italiaanse avond bij Wentersch Bierbrouwerij Italiaanse avond bij Wentersch Bierbrouwerij: BELLA ITALIA! AchterhoekFoto.nl
X-ALT-DESC;FMTTYPE=text/html:<a href='https://www.achterhoekfoto.nl/agenda/item//218862'>https://achterhoekfoto.nl/agenda/item//218862</a> || <p>Italiaanse avond bij Wentersch Bierbrouwerij: BELLA ITALIA!

In samenwerking met ‘Clan-Destino’ zal er een avond met Italiaanse hapjes worden georganiseerd.
Tijdens deze avond kunt u proeven van Italiaanse Charcuterie, broden en warme hapjes.
We beginnen deze avond rond 19:30 uur en eindigen rond 21:30 met de nodige uitloop.
 
Inschrijven is wenselijk i.v.m. het bestellen van de hapjes, dit is mogelijk tot maandag 13 augustus en kan via rondleidingen@wentersch.nl
De kosten voor dit arrangement zijn €17,50 exclusief bieren of andere dranken.

</p>
DESCRIPTION:<a href='https://www.achterhoekfoto.nl/agenda/item//218862'>https://www.achterhoekfoto.nl/agenda/item//218862</a> || Italiaanse avond bij Wentersch Bierbrouwerij: BELLA ITALIA!

In samenwerking met ‘Clan-Destino’ zal er een avond met Italiaanse hapjes worden georganiseerd.
Tijdens deze avond kunt u proeven van Italiaanse Charcuterie, broden en warme hapjes.
We beginnen deze avond rond 19:30 uur en eindigen rond 21:30 met de nodige uitloop.
 
Inschrijven is wenselijk i.v.m. het bestellen van de hapjes, dit is mogelijk tot maandag 13 augustus en kan via rondleidingen@wentersch.nl
De kosten voor dit arrangement zijn €17,50 exclusief bieren of andere dranken.


LAST-MODIFIED:20260423T143858Z
LOCATION:Bierbrouwerij Wentersch Groenloseweg 75 7101AD Winterswijk
SEQUENCE:0
STATUS:CONFIRMED
SUMMARY:Italiaanse avond bij Wentersch Bierbrouwerij Italiaanse avond bij Wentersch Bierbrouwerij: BELLA ITALIA!
TRANSP:OPAQUE
END:VEVENT
END:VCALENDAR
