BEGIN:VCALENDAR
PRODID:-//PUBBLE//an agenda//NL
VERSION:2.0
METHOD:PUBLISH
BEGIN:VEVENT
DTSTART:20180823T163000Z
DTEND:20180823T203000Z
DTSTAMP:20260426T010301Z
UID:8207a471-4be6-4a9f-967b-b0d5d6c90a1a
CREATED:20260426T010301Z
URL:https://www.achterhoekfoto.nl/agenda/item/218203
NAME:Nederlands Symfonie Project: Isolement AchterhoekFoto.nl
X-WR-CALNAME:Nederlands Symfonie Project: Isolement AchterhoekFoto.nl
X-ALT-DESC;FMTTYPE=text/html:<a href='https://www.achterhoekfoto.nl/agenda/item//218203'>https://achterhoekfoto.nl/agenda/item//218203</a> || <p>Het Nederlands Symfonie Project: ISOLEMENT
Geselecteerde conservatoriumstudenten van alle Nederlandse conservatoria bundelen hun krachten tijdens een geweldig project. Na het eerste lustrum in 2017 brengt het Nederlands Symfonie Project dit jaar een bijzonder 20e-eeuws programma.

Modern repertoire van wereldfaam gecombineerd met onderbelichte parels. Binnen het thema Isolement is ditmaal een prominente rol voor dans- en dichtkunst weggelegd.

Het orkest staat onder leiding van de Zeddamse dirigent Pim Cuijpers. Winnaar van het prestigieuze YPF Concours Ramon van Engelenhoven – die ook bij top dirigent Valery Gergiev soleerde – zal het Vierde Pianoconcert van Rachmaninov spelen. Een speciaal door prominent dichteres Florence Tonk geschreven gedicht zal hier voor het eerst worden voorgedragen. 

Deuren openen om 18:30 uur waarna er een gratis inleiding volgt door musicoloog Hidde Bekkers. Het programma begint om 19:30 uur. Voor meer informatie kijk op www.nederlandssymfonieproject.nl </p>
DESCRIPTION:<a href='https://www.achterhoekfoto.nl/agenda/item//218203'>https://www.achterhoekfoto.nl/agenda/item//218203</a> || Het Nederlands Symfonie Project: ISOLEMENT
Geselecteerde conservatoriumstudenten van alle Nederlandse conservatoria bundelen hun krachten tijdens een geweldig project. Na het eerste lustrum in 2017 brengt het Nederlands Symfonie Project dit jaar een bijzonder 20e-eeuws programma.

Modern repertoire van wereldfaam gecombineerd met onderbelichte parels. Binnen het thema Isolement is ditmaal een prominente rol voor dans- en dichtkunst weggelegd.

Het orkest staat onder leiding van de Zeddamse dirigent Pim Cuijpers. Winnaar van het prestigieuze YPF Concours Ramon van Engelenhoven – die ook bij top dirigent Valery Gergiev soleerde – zal het Vierde Pianoconcert van Rachmaninov spelen. Een speciaal door prominent dichteres Florence Tonk geschreven gedicht zal hier voor het eerst worden voorgedragen. 

Deuren openen om 18:30 uur waarna er een gratis inleiding volgt door musicoloog Hidde Bekkers. Het programma begint om 19:30 uur. Voor meer informatie kijk op www.nederlandssymfonieproject.nl 
LAST-MODIFIED:20260426T010301Z
LOCATION:Ludgercollege (Holterweg 121) Holterweg 121 7001ek Doetinchem
SEQUENCE:0
STATUS:CONFIRMED
SUMMARY:Nederlands Symfonie Project: Isolement
TRANSP:OPAQUE
END:VEVENT
END:VCALENDAR
