BEGIN:VCALENDAR
PRODID:-//PUBBLE//an agenda//NL
VERSION:2.0
METHOD:PUBLISH
BEGIN:VEVENT
DTSTART:20180821T160000Z
DTEND:20180821T190000Z
DTSTAMP:20260425T032927Z
UID:5f1bd6f3-be26-463a-9c98-4ef13ba82139
CREATED:20260425T032927Z
URL:https://www.achterhoekfoto.nl/agenda/item/217693
NAME:De Twee Bruggenloop AchterhoekFoto.nl
X-WR-CALNAME:De Twee Bruggenloop AchterhoekFoto.nl
X-ALT-DESC;FMTTYPE=text/html:<a href='https://www.achterhoekfoto.nl/agenda/item//217693'>https://achterhoekfoto.nl/agenda/item//217693</a> || <p>Wandelen of hardlopen door de prachtige omgeving van De Twee Bruggen? 
Noteer dan alvast 21 augustus in uw agenda en doe mee met De Twee Bruggenloop die in samenwerking met AVA'70 wordt georganiseerd. 

Meer informatie volgt z.s.m.</p>
DESCRIPTION:<a href='https://www.achterhoekfoto.nl/agenda/item//217693'>https://www.achterhoekfoto.nl/agenda/item//217693</a> || Wandelen of hardlopen door de prachtige omgeving van De Twee Bruggen? 
Noteer dan alvast 21 augustus in uw agenda en doe mee met De Twee Bruggenloop die in samenwerking met AVA'70 wordt georganiseerd. 

Meer informatie volgt z.s.m.
LAST-MODIFIED:20260425T032927Z
LOCATION:Vakantiepark De Twee Bruggen Meenkmolenweg 13 7109AH Miste
SEQUENCE:0
STATUS:CONFIRMED
SUMMARY:De Twee Bruggenloop
TRANSP:OPAQUE
END:VEVENT
END:VCALENDAR
