BEGIN:VCALENDAR
PRODID:-//PUBBLE//an agenda//NL
VERSION:2.0
METHOD:PUBLISH
BEGIN:VEVENT
DTSTART:20180823T160000Z
DTEND:20180826T210000Z
DTSTAMP:20260425T233415Z
UID:1c3887f2-26c9-4b4e-b484-c4ae82f18240
CREATED:20260425T233415Z
URL:https://www.achterhoekfoto.nl/agenda/item/215521
NAME:McManus Motor4daagse AchterhoekFoto.nl
X-WR-CALNAME:McManus Motor4daagse AchterhoekFoto.nl
X-ALT-DESC;FMTTYPE=text/html:<a href='https://www.achterhoekfoto.nl/agenda/item//215521'>https://achterhoekfoto.nl/agenda/item//215521</a> || <p>Van 23, 24, 25, 26 augustus organiseert McManus weer een motor 4 daagse.
Deze zal bestaan uit 3 avondritten van ca 100 km en zondags zal het een lange rit worden van ca 200 km.
Routes zijn met de inschrijving verkrijgbaar voor de navigatie bij aanvang van de rit.
Het is ook mogelijk om 1 dag mee te rijden.
Kosten
5 euro per rit (incl. bijrijder en 1 concumptie)
15 euro alle ritten (incl. bijrijder en 4 concumpties)
Starten vanaf:
Donderdag en vrijdag tussen 18:00 - 19:00 uur
Zaterdag tussen 17:00 - 18:00 uur
Zondag tussen 10:00 - 11:00 uur
Tevens sluiten wij weer af met een grote luxe bbq.( € 15,00 p.p.) Doorgeven en voldoen bij inschrijven.</p>
DESCRIPTION:<a href='https://www.achterhoekfoto.nl/agenda/item//215521'>https://www.achterhoekfoto.nl/agenda/item//215521</a> || Van 23, 24, 25, 26 augustus organiseert McManus weer een motor 4 daagse.
Deze zal bestaan uit 3 avondritten van ca 100 km en zondags zal het een lange rit worden van ca 200 km.
Routes zijn met de inschrijving verkrijgbaar voor de navigatie bij aanvang van de rit.
Het is ook mogelijk om 1 dag mee te rijden.
Kosten
5 euro per rit (incl. bijrijder en 1 concumptie)
15 euro alle ritten (incl. bijrijder en 4 concumpties)
Starten vanaf:
Donderdag en vrijdag tussen 18:00 - 19:00 uur
Zaterdag tussen 17:00 - 18:00 uur
Zondag tussen 10:00 - 11:00 uur
Tevens sluiten wij weer af met een grote luxe bbq.( € 15,00 p.p.) Doorgeven en voldoen bij inschrijven.
LAST-MODIFIED:20260425T233415Z
LOCATION:Tapperij van Ooijen Molendijk 2  Lichtenvoorde
SEQUENCE:0
STATUS:CONFIRMED
SUMMARY:McManus Motor4daagse
TRANSP:OPAQUE
END:VEVENT
END:VCALENDAR
